BEGIN:VCALENDAR
VERSION:2.0
PRODID:-//Katholische Pfarrgemeinde Sanctissima Eucharistia - ECPv6.15.20//NONSGML v1.0//EN
CALSCALE:GREGORIAN
METHOD:PUBLISH
X-ORIGINAL-URL:https://sanctissimaeucharistia.de
X-WR-CALDESC:Veranstaltungen für Katholische Pfarrgemeinde Sanctissima Eucharistia
REFRESH-INTERVAL;VALUE=DURATION:PT1H
X-Robots-Tag:noindex
X-PUBLISHED-TTL:PT1H
BEGIN:VTIMEZONE
TZID:Europe/Paris
BEGIN:DAYLIGHT
TZOFFSETFROM:+0100
TZOFFSETTO:+0200
TZNAME:CEST
DTSTART:20220327T010000
END:DAYLIGHT
BEGIN:STANDARD
TZOFFSETFROM:+0200
TZOFFSETTO:+0100
TZNAME:CET
DTSTART:20221030T010000
END:STANDARD
BEGIN:DAYLIGHT
TZOFFSETFROM:+0100
TZOFFSETTO:+0200
TZNAME:CEST
DTSTART:20230326T010000
END:DAYLIGHT
BEGIN:STANDARD
TZOFFSETFROM:+0200
TZOFFSETTO:+0100
TZNAME:CET
DTSTART:20231029T010000
END:STANDARD
BEGIN:DAYLIGHT
TZOFFSETFROM:+0100
TZOFFSETTO:+0200
TZNAME:CEST
DTSTART:20240331T010000
END:DAYLIGHT
BEGIN:STANDARD
TZOFFSETFROM:+0200
TZOFFSETTO:+0100
TZNAME:CET
DTSTART:20241027T010000
END:STANDARD
END:VTIMEZONE
BEGIN:VEVENT
DTSTART;VALUE=DATE:20230108
DTEND;VALUE=DATE:20230109
DTSTAMP:20260425T125943
CREATED:20221209T162958Z
LAST-MODIFIED:20221214T114556Z
UID:408-1673136000-1673222399@sanctissimaeucharistia.de
SUMMARY:Die Sternsinger kommen
DESCRIPTION:Am 7. und 8. Januar komen die Sternsinger in die Häuser unserer Gemeinde. “Besuchswunschzettel” können in unseren Kirchen ausgefüllt werden.
URL:https://sanctissimaeucharistia.de/event/die-sternsinger-kommen-2/
CATEGORIES:Sammlung
END:VEVENT
BEGIN:VEVENT
DTSTART;TZID=Europe/Paris:20230108T190000
DTEND;TZID=Europe/Paris:20230108T200000
DTSTAMP:20260425T125943
CREATED:20221209T172017Z
LAST-MODIFIED:20221214T114423Z
UID:452-1673204400-1673208000@sanctissimaeucharistia.de
SUMMARY:Taizéandacht
DESCRIPTION:Abwechselnd in der Katholischen Kirche St. Thomas Morus in Kleinmachnow und der evangelischen St. Andreaskirche in Teltow finden die ökumenischen Taizéandachten statt. Beginn ist jeweils 19:00 Uhr.
URL:https://sanctissimaeucharistia.de/event/taizeandacht-2/
LOCATION:St. Andreaskirche Teltow\, Breite Straße\, Teltow\, 14513\, Deutschland
CATEGORIES:Gottesdienst
END:VEVENT
END:VCALENDAR