BEGIN:VCALENDAR
VERSION:2.0
PRODID:-//Katholische Pfarrgemeinde Sanctissima Eucharistia - ECPv6.15.20//NONSGML v1.0//EN
CALSCALE:GREGORIAN
METHOD:PUBLISH
X-WR-CALNAME:Katholische Pfarrgemeinde Sanctissima Eucharistia
X-ORIGINAL-URL:https://sanctissimaeucharistia.de
X-WR-CALDESC:Veranstaltungen für Katholische Pfarrgemeinde Sanctissima Eucharistia
REFRESH-INTERVAL;VALUE=DURATION:PT1H
X-Robots-Tag:noindex
X-PUBLISHED-TTL:PT1H
BEGIN:VTIMEZONE
TZID:Europe/Paris
BEGIN:DAYLIGHT
TZOFFSETFROM:+0100
TZOFFSETTO:+0200
TZNAME:CEST
DTSTART:20220327T010000
END:DAYLIGHT
BEGIN:STANDARD
TZOFFSETFROM:+0200
TZOFFSETTO:+0100
TZNAME:CET
DTSTART:20221030T010000
END:STANDARD
BEGIN:DAYLIGHT
TZOFFSETFROM:+0100
TZOFFSETTO:+0200
TZNAME:CEST
DTSTART:20230326T010000
END:DAYLIGHT
BEGIN:STANDARD
TZOFFSETFROM:+0200
TZOFFSETTO:+0100
TZNAME:CET
DTSTART:20231029T010000
END:STANDARD
BEGIN:DAYLIGHT
TZOFFSETFROM:+0100
TZOFFSETTO:+0200
TZNAME:CEST
DTSTART:20240331T010000
END:DAYLIGHT
BEGIN:STANDARD
TZOFFSETFROM:+0200
TZOFFSETTO:+0100
TZNAME:CET
DTSTART:20241027T010000
END:STANDARD
END:VTIMEZONE
BEGIN:VEVENT
DTSTART;TZID=Europe/Paris:20230529T100000
DTEND;TZID=Europe/Paris:20230529T150000
DTSTAMP:20260425T042634
CREATED:20230501T174510Z
LAST-MODIFIED:20230520T165616Z
UID:1130-1685354400-1685372400@sanctissimaeucharistia.de
SUMMARY:Märkischer Katholikentag
DESCRIPTION:Pfingstmontag\, 29. Mai 2023 – Märkischer Katholikentag\nAm Pfingstmontag feiern wir ab 10:00 Uhr den märkischen Katholikentag in Brandenburg an der Havel. \nGottesdienste an Pfingstmontag in unserer Pfarrgemeinde:\n08.00 Uhr\, in Teltow\n18.00 Uhr\, in Kleinmachnow \n  \nSehr herzlich laden wir ein zum Märkischen Katholikentag (ehem. Dekanatstag) in Brandenburg an der Havel am Pfingstmontag\, 29. Mai 2023: \n „Maria stand auf und machte sich eilig auf den Weg“ (Lk 1\,39) \nVorabend: Pfingstnacht der Jugend: 21.30 Uhr St. Nikolai Brandenburg an der Havel (s. Link) \nab 09.00 Uhr       Beichtgelegenheit im Brandenburger Dom \n10.00 Uhr             Heilige Messe im Brandenburger Dom mit Erzbischof Dr. Heiner Koch \n                                Buchverkauf der Buchhandlung „Sonnenhaus“ vor dem Dom \nWeiteres Programm auf dem Gelände der\nPfarrei Heilige Dreifaltigkeit\, Neustädtische Heidestraße 25: \n 12.00 Uhr          Mittagessen\, Getränke\, Kaffee\, Kuchen \n13.00 Uhr           Harfenkonzert unter Bäumen\, Infostände\n \n                              Eucharistische Anbetung im Anbetungszelt \n                              Vortrag im Saal: Herr Anselm Schadow OPraem:\n„Die Prämonstratenser und die Mark Brandenburg“\n                            Fußballturnier auf dem Gelände des Pauliklosters\nFußballschuhe (Achtung nur ohne Stollen!) und Sportkleidung nicht vergessen.\nDie Mannschaften werden vor Ort aufgestellt. \n14.30 Uhr          Abschluss mit Segen (vor dem Gemeindehaus)
URL:https://sanctissimaeucharistia.de/event/maerkischer-katholikentag/
CATEGORIES:Gottesdienst,Veranstaltung
END:VEVENT
END:VCALENDAR