BEGIN:VCALENDAR
VERSION:2.0
PRODID:-//Katholische Pfarrgemeinde Sanctissima Eucharistia - ECPv6.15.20//NONSGML v1.0//EN
CALSCALE:GREGORIAN
METHOD:PUBLISH
X-WR-CALNAME:Katholische Pfarrgemeinde Sanctissima Eucharistia
X-ORIGINAL-URL:https://sanctissimaeucharistia.de
X-WR-CALDESC:Veranstaltungen für Katholische Pfarrgemeinde Sanctissima Eucharistia
REFRESH-INTERVAL;VALUE=DURATION:PT1H
X-Robots-Tag:noindex
X-PUBLISHED-TTL:PT1H
BEGIN:VTIMEZONE
TZID:Europe/Paris
BEGIN:DAYLIGHT
TZOFFSETFROM:+0100
TZOFFSETTO:+0200
TZNAME:CEST
DTSTART:20220327T010000
END:DAYLIGHT
BEGIN:STANDARD
TZOFFSETFROM:+0200
TZOFFSETTO:+0100
TZNAME:CET
DTSTART:20221030T010000
END:STANDARD
BEGIN:DAYLIGHT
TZOFFSETFROM:+0100
TZOFFSETTO:+0200
TZNAME:CEST
DTSTART:20230326T010000
END:DAYLIGHT
BEGIN:STANDARD
TZOFFSETFROM:+0200
TZOFFSETTO:+0100
TZNAME:CET
DTSTART:20231029T010000
END:STANDARD
BEGIN:DAYLIGHT
TZOFFSETFROM:+0100
TZOFFSETTO:+0200
TZNAME:CEST
DTSTART:20240331T010000
END:DAYLIGHT
BEGIN:STANDARD
TZOFFSETFROM:+0200
TZOFFSETTO:+0100
TZNAME:CET
DTSTART:20241027T010000
END:STANDARD
END:VTIMEZONE
BEGIN:VEVENT
DTSTART;TZID=Europe/Paris:20230903T100000
DTEND;TZID=Europe/Paris:20230903T110000
DTSTAMP:20260424T231348
CREATED:20230723T183327Z
LAST-MODIFIED:20230827T090144Z
UID:1347-1693735200-1693738800@sanctissimaeucharistia.de
SUMMARY:Ministrantenstunde
DESCRIPTION:Achtung: Neuer Termin! \nNach den Ferien finden wieder unsere regelmäßigen Ministrantenstunden statt. \nAm 3. September 2023\, nach der Heilgen Messe beginnt die Ausbildung für neue Ministranten in Teltow. Möchtest Du mitmachen? Melde Dich bei Ronny Bereczki: ministranten@sanctissima-eucharistia.de \nWir treffen uns regelmäßig jeden zweiten Samstag\, 10 Uhr\, in der Teltower Sakristei.
URL:https://sanctissimaeucharistia.de/event/ministrantenstunde/
LOCATION:Sanctissima Eucharistia Teltow\, Ruhlsdorfer Str. 28\, Teltow\, 14513\, Deutschland
CATEGORIES:Ministranten
END:VEVENT
END:VCALENDAR