BEGIN:VCALENDAR
VERSION:2.0
PRODID:-//Katholische Pfarrgemeinde Sanctissima Eucharistia - ECPv6.15.20//NONSGML v1.0//EN
CALSCALE:GREGORIAN
METHOD:PUBLISH
X-ORIGINAL-URL:https://sanctissimaeucharistia.de
X-WR-CALDESC:Veranstaltungen für Katholische Pfarrgemeinde Sanctissima Eucharistia
REFRESH-INTERVAL;VALUE=DURATION:PT1H
X-Robots-Tag:noindex
X-PUBLISHED-TTL:PT1H
BEGIN:VTIMEZONE
TZID:Europe/Paris
BEGIN:DAYLIGHT
TZOFFSETFROM:+0100
TZOFFSETTO:+0200
TZNAME:CEST
DTSTART:20220327T010000
END:DAYLIGHT
BEGIN:STANDARD
TZOFFSETFROM:+0200
TZOFFSETTO:+0100
TZNAME:CET
DTSTART:20221030T010000
END:STANDARD
BEGIN:DAYLIGHT
TZOFFSETFROM:+0100
TZOFFSETTO:+0200
TZNAME:CEST
DTSTART:20230326T010000
END:DAYLIGHT
BEGIN:STANDARD
TZOFFSETFROM:+0200
TZOFFSETTO:+0100
TZNAME:CET
DTSTART:20231029T010000
END:STANDARD
BEGIN:DAYLIGHT
TZOFFSETFROM:+0100
TZOFFSETTO:+0200
TZNAME:CEST
DTSTART:20240331T010000
END:DAYLIGHT
BEGIN:STANDARD
TZOFFSETFROM:+0200
TZOFFSETTO:+0100
TZNAME:CET
DTSTART:20241027T010000
END:STANDARD
END:VTIMEZONE
BEGIN:VEVENT
DTSTART;TZID=Europe/Paris:20231105T140000
DTEND;TZID=Europe/Paris:20231105T150000
DTSTAMP:20260424T181348
CREATED:20230916T111418Z
LAST-MODIFIED:20230916T111418Z
UID:1406-1699192800-1699196400@sanctissimaeucharistia.de
SUMMARY:Gräbersegnung Ruhlsdorf
DESCRIPTION:Friedhof Ruhlsdorf
URL:https://sanctissimaeucharistia.de/event/graebersegnung-ruhlsdorf/
LOCATION:Friedhof Ruhlsdorf\, Samatenweg 18\, Teltow OT Ruhlsdorf\, 14513\, Deutschland
CATEGORIES:Gottesdienst
END:VEVENT
BEGIN:VEVENT
DTSTART;TZID=Europe/Paris:20231105T153000
DTEND;TZID=Europe/Paris:20231105T163000
DTSTAMP:20260424T181348
CREATED:20230916T111629Z
LAST-MODIFIED:20230916T111629Z
UID:1409-1699198200-1699201800@sanctissimaeucharistia.de
SUMMARY:Gräbersegnung Teltow
DESCRIPTION:Friedhof Teltow
URL:https://sanctissimaeucharistia.de/event/graebersegnung-teltow/
LOCATION:Friedhof Teltow\, Weinbergsweg 1\, Teltow\, 14513\, Deutschland
CATEGORIES:Gottesdienst
END:VEVENT
END:VCALENDAR