BEGIN:VCALENDAR
VERSION:2.0
PRODID:-//Katholische Pfarrgemeinde Sanctissima Eucharistia - ECPv6.15.20//NONSGML v1.0//EN
CALSCALE:GREGORIAN
METHOD:PUBLISH
X-WR-CALNAME:Katholische Pfarrgemeinde Sanctissima Eucharistia
X-ORIGINAL-URL:https://sanctissimaeucharistia.de
X-WR-CALDESC:Veranstaltungen für Katholische Pfarrgemeinde Sanctissima Eucharistia
REFRESH-INTERVAL;VALUE=DURATION:PT1H
X-Robots-Tag:noindex
X-PUBLISHED-TTL:PT1H
BEGIN:VTIMEZONE
TZID:Europe/Paris
BEGIN:DAYLIGHT
TZOFFSETFROM:+0100
TZOFFSETTO:+0200
TZNAME:CEST
DTSTART:20220327T010000
END:DAYLIGHT
BEGIN:STANDARD
TZOFFSETFROM:+0200
TZOFFSETTO:+0100
TZNAME:CET
DTSTART:20221030T010000
END:STANDARD
BEGIN:DAYLIGHT
TZOFFSETFROM:+0100
TZOFFSETTO:+0200
TZNAME:CEST
DTSTART:20230326T010000
END:DAYLIGHT
BEGIN:STANDARD
TZOFFSETFROM:+0200
TZOFFSETTO:+0100
TZNAME:CET
DTSTART:20231029T010000
END:STANDARD
BEGIN:DAYLIGHT
TZOFFSETFROM:+0100
TZOFFSETTO:+0200
TZNAME:CEST
DTSTART:20240331T010000
END:DAYLIGHT
BEGIN:STANDARD
TZOFFSETFROM:+0200
TZOFFSETTO:+0100
TZNAME:CET
DTSTART:20241027T010000
END:STANDARD
END:VTIMEZONE
BEGIN:VEVENT
DTSTART;TZID=Europe/Paris:20231126T083000
DTEND;TZID=Europe/Paris:20231126T110000
DTSTAMP:20260424T160457
CREATED:20231008T152820Z
LAST-MODIFIED:20231008T152820Z
UID:1435-1700987400-1700996400@sanctissimaeucharistia.de
SUMMARY:Caritas-Basar
DESCRIPTION:Caritas-Basar \nDer diesjährige Caritasbasar findet statt am Sonntag\, 26. November (Christkönig)\, vor und nach der Heiligen Messe in Teltow.\nVerkauft werden wie immer selbst hergestellte und gebastelte Dinge zugunsten der Arbeit des Caritasverbandes. \nIn diesem Jahr möchten wir zusätzlich auch mit Glühwein und Speisen zum Verweilen einladen. \nHerzliche Einladung!
URL:https://sanctissimaeucharistia.de/event/caritas-basar/
LOCATION:Sanctissima Eucharistia Teltow\, Ruhlsdorfer Str. 28\, Teltow\, 14513\, Deutschland
CATEGORIES:Veranstaltung
END:VEVENT
END:VCALENDAR