BEGIN:VCALENDAR
VERSION:2.0
PRODID:-//Katholische Pfarrgemeinde Sanctissima Eucharistia - ECPv6.15.20//NONSGML v1.0//EN
CALSCALE:GREGORIAN
METHOD:PUBLISH
X-WR-CALNAME:Katholische Pfarrgemeinde Sanctissima Eucharistia
X-ORIGINAL-URL:https://sanctissimaeucharistia.de
X-WR-CALDESC:Veranstaltungen für Katholische Pfarrgemeinde Sanctissima Eucharistia
REFRESH-INTERVAL;VALUE=DURATION:PT1H
X-Robots-Tag:noindex
X-PUBLISHED-TTL:PT1H
BEGIN:VTIMEZONE
TZID:Europe/Paris
BEGIN:DAYLIGHT
TZOFFSETFROM:+0100
TZOFFSETTO:+0200
TZNAME:CEST
DTSTART:20220327T010000
END:DAYLIGHT
BEGIN:STANDARD
TZOFFSETFROM:+0200
TZOFFSETTO:+0100
TZNAME:CET
DTSTART:20221030T010000
END:STANDARD
BEGIN:DAYLIGHT
TZOFFSETFROM:+0100
TZOFFSETTO:+0200
TZNAME:CEST
DTSTART:20230326T010000
END:DAYLIGHT
BEGIN:STANDARD
TZOFFSETFROM:+0200
TZOFFSETTO:+0100
TZNAME:CET
DTSTART:20231029T010000
END:STANDARD
BEGIN:DAYLIGHT
TZOFFSETFROM:+0100
TZOFFSETTO:+0200
TZNAME:CEST
DTSTART:20240331T010000
END:DAYLIGHT
BEGIN:STANDARD
TZOFFSETFROM:+0200
TZOFFSETTO:+0100
TZNAME:CET
DTSTART:20241027T010000
END:STANDARD
END:VTIMEZONE
BEGIN:VEVENT
DTSTART;TZID=Europe/Paris:20231202T100000
DTEND;TZID=Europe/Paris:20231202T130000
DTSTAMP:20260424T160607
CREATED:20231122T092006Z
LAST-MODIFIED:20231122T092006Z
UID:1475-1701511200-1701522000@sanctissimaeucharistia.de
SUMMARY:Vorbereitungstreffen der Sternsinger
DESCRIPTION:All denen\, die wie „kleine Könige“ die Botschaft der Geburt Jesu für das kommende Jahr zu den Menschen unserer Orte tragen möchten\, rufen wir zu: \n  \nIhr seid herzlich eingeladen\, Sternsinger zu sein! \n  \nAlle Schulkinder\, Jugendliche und Erwachsene\, die zu Beginn des Neuen Jahres 2024 den Segen zu den Menschen in unseren Orte tragen möchten\, können sich gerne bei uns melden: \n  \nfür Teltow und Großbeeren: Stefanie Kirscht (s.kirscht@gmx.de)\, \nfür  Kleinmachnow und Stahnsdorf: Barbara Marin (sternsinger-tks@gmx.de) \n  \nDas Vorbereitungstreffen findet am 2. Dezember 2023 von 10-13 Uhr im Pfarrsaal der Kleinmachnower Kirche St. Thomas Morus\, Hohe Kiefer 113 statt. \nUnsere Familien\, Seniorenheime und Geschäfte besuchen wir am \n\n und 7. Januar 2024.\n\n  \n  \nWir freuen uns über zahlreiche Heilige drei – oder mehr – Könige!
URL:https://sanctissimaeucharistia.de/event/vorbereitungstreffen-der-sternsinger/
LOCATION:St. Thomas Morus Kleinmachnow\, Hohe Kiefer 113\, Kleinmachnow\, 14532\, Deutschland
CATEGORIES:Kinder,Sammlung
END:VEVENT
END:VCALENDAR