BEGIN:VCALENDAR
VERSION:2.0
PRODID:-//Katholische Pfarrgemeinde Sanctissima Eucharistia - ECPv6.15.20//NONSGML v1.0//EN
CALSCALE:GREGORIAN
METHOD:PUBLISH
X-WR-CALNAME:Katholische Pfarrgemeinde Sanctissima Eucharistia
X-ORIGINAL-URL:https://sanctissimaeucharistia.de
X-WR-CALDESC:Veranstaltungen für Katholische Pfarrgemeinde Sanctissima Eucharistia
REFRESH-INTERVAL;VALUE=DURATION:PT1H
X-Robots-Tag:noindex
X-PUBLISHED-TTL:PT1H
BEGIN:VTIMEZONE
TZID:Europe/Paris
BEGIN:DAYLIGHT
TZOFFSETFROM:+0100
TZOFFSETTO:+0200
TZNAME:CEST
DTSTART:20220327T010000
END:DAYLIGHT
BEGIN:STANDARD
TZOFFSETFROM:+0200
TZOFFSETTO:+0100
TZNAME:CET
DTSTART:20221030T010000
END:STANDARD
BEGIN:DAYLIGHT
TZOFFSETFROM:+0100
TZOFFSETTO:+0200
TZNAME:CEST
DTSTART:20230326T010000
END:DAYLIGHT
BEGIN:STANDARD
TZOFFSETFROM:+0200
TZOFFSETTO:+0100
TZNAME:CET
DTSTART:20231029T010000
END:STANDARD
BEGIN:DAYLIGHT
TZOFFSETFROM:+0100
TZOFFSETTO:+0200
TZNAME:CEST
DTSTART:20240331T010000
END:DAYLIGHT
BEGIN:STANDARD
TZOFFSETFROM:+0200
TZOFFSETTO:+0100
TZNAME:CET
DTSTART:20241027T010000
END:STANDARD
END:VTIMEZONE
BEGIN:VEVENT
DTSTART;TZID=Europe/Paris:20231224T150000
DTEND;TZID=Europe/Paris:20231224T160000
DTSTAMP:20260424T180801
CREATED:20231218T184008Z
LAST-MODIFIED:20231218T184130Z
UID:1514-1703430000-1703433600@sanctissimaeucharistia.de
SUMMARY:Krippenspiel in Kleinmachnow
DESCRIPTION:
URL:https://sanctissimaeucharistia.de/event/krippenspiel-in-kleinmachnow/
LOCATION:St. Thomas Morus Kleinmachnow\, Hohe Kiefer 113\, Kleinmachnow\, 14532\, Deutschland
CATEGORIES:Kinder
END:VEVENT
BEGIN:VEVENT
DTSTART;TZID=Europe/Paris:20231224T160000
DTEND;TZID=Europe/Paris:20231224T170000
DTSTAMP:20260424T180801
CREATED:20231218T184111Z
LAST-MODIFIED:20231218T184111Z
UID:1516-1703433600-1703437200@sanctissimaeucharistia.de
SUMMARY:Krippenspiel in Teltow
DESCRIPTION:
URL:https://sanctissimaeucharistia.de/event/krippenspiel-in-teltow/
LOCATION:Sanctissima Eucharistia Teltow\, Ruhlsdorfer Str. 28\, Teltow\, 14513\, Deutschland
CATEGORIES:Kinder
END:VEVENT
BEGIN:VEVENT
DTSTART;TZID=Europe/Paris:20231224T210000
DTEND;TZID=Europe/Paris:20231224T223000
DTSTAMP:20260424T180801
CREATED:20231218T184327Z
LAST-MODIFIED:20231218T184527Z
UID:1518-1703451600-1703457000@sanctissimaeucharistia.de
SUMMARY:Christmette in Teltow (vorher Adventliches Singen)
DESCRIPTION:20:30 Uhr Adventliches Singen in Teltow\n21:00 Uhr Christmette in Teltow
URL:https://sanctissimaeucharistia.de/event/christmette-in-teltow-vorher-adventliches-singen/
LOCATION:Sanctissima Eucharistia Teltow\, Ruhlsdorfer Str. 28\, Teltow\, 14513\, Deutschland
CATEGORIES:Gottesdienst
END:VEVENT
BEGIN:VEVENT
DTSTART;TZID=Europe/Paris:20231224T220000
DTEND;TZID=Europe/Paris:20231224T233000
DTSTAMP:20260424T180801
CREATED:20231218T184506Z
LAST-MODIFIED:20231218T184506Z
UID:1520-1703455200-1703460600@sanctissimaeucharistia.de
SUMMARY:Christmette in Kleinmachnow (vorher Adventliches Singen)
DESCRIPTION:21:30 Uhr Adventliches Singen in Kleinmachnow\n22:00 Uhr Christmette in Kleinmachnow
URL:https://sanctissimaeucharistia.de/event/christmette-in-kleinmachnow-vorher-adventliches-singen/
LOCATION:St. Thomas Morus Kleinmachnow\, Hohe Kiefer 113\, Kleinmachnow\, 14532\, Deutschland
CATEGORIES:Gottesdienst
END:VEVENT
END:VCALENDAR