BEGIN:VCALENDAR
VERSION:2.0
PRODID:-//Katholische Pfarrgemeinde Sanctissima Eucharistia - ECPv6.15.20//NONSGML v1.0//EN
CALSCALE:GREGORIAN
METHOD:PUBLISH
X-WR-CALNAME:Katholische Pfarrgemeinde Sanctissima Eucharistia
X-ORIGINAL-URL:https://sanctissimaeucharistia.de
X-WR-CALDESC:Veranstaltungen für Katholische Pfarrgemeinde Sanctissima Eucharistia
REFRESH-INTERVAL;VALUE=DURATION:PT1H
X-Robots-Tag:noindex
X-PUBLISHED-TTL:PT1H
BEGIN:VTIMEZONE
TZID:Europe/Paris
BEGIN:DAYLIGHT
TZOFFSETFROM:+0100
TZOFFSETTO:+0200
TZNAME:CEST
DTSTART:20230326T010000
END:DAYLIGHT
BEGIN:STANDARD
TZOFFSETFROM:+0200
TZOFFSETTO:+0100
TZNAME:CET
DTSTART:20231029T010000
END:STANDARD
BEGIN:DAYLIGHT
TZOFFSETFROM:+0100
TZOFFSETTO:+0200
TZNAME:CEST
DTSTART:20240331T010000
END:DAYLIGHT
BEGIN:STANDARD
TZOFFSETFROM:+0200
TZOFFSETTO:+0100
TZNAME:CET
DTSTART:20241027T010000
END:STANDARD
BEGIN:DAYLIGHT
TZOFFSETFROM:+0100
TZOFFSETTO:+0200
TZNAME:CEST
DTSTART:20250330T010000
END:DAYLIGHT
BEGIN:STANDARD
TZOFFSETFROM:+0200
TZOFFSETTO:+0100
TZNAME:CET
DTSTART:20251026T010000
END:STANDARD
END:VTIMEZONE
BEGIN:VEVENT
DTSTART;VALUE=DATE:20240106
DTEND;VALUE=DATE:20240108
DTSTAMP:20260424T141241
CREATED:20231122T092055Z
LAST-MODIFIED:20231122T092055Z
UID:1477-1704499200-1704671999@sanctissimaeucharistia.de
SUMMARY:Sternsinger unterwegs
DESCRIPTION:
URL:https://sanctissimaeucharistia.de/event/sternsinger-unterwegs/
CATEGORIES:Kinder,Sammlung
END:VEVENT
BEGIN:VEVENT
DTSTART;TZID=Europe/Paris:20240106T090000
DTEND;TZID=Europe/Paris:20240106T100000
DTSTAMP:20260424T141241
CREATED:20231225T171146Z
LAST-MODIFIED:20231225T171146Z
UID:1531-1704531600-1704535200@sanctissimaeucharistia.de
SUMMARY:Andacht mit Aussendung der Sternsinger
DESCRIPTION:
URL:https://sanctissimaeucharistia.de/event/andacht-mit-aussendung-der-sternsinger/
LOCATION:St. Thomas Morus Kleinmachnow\, Hohe Kiefer 113\, Kleinmachnow\, 14532\, Deutschland
CATEGORIES:Gottesdienst
END:VEVENT
END:VCALENDAR