BEGIN:VCALENDAR
VERSION:2.0
PRODID:-//Katholische Pfarrgemeinde Sanctissima Eucharistia - ECPv6.15.20//NONSGML v1.0//EN
CALSCALE:GREGORIAN
METHOD:PUBLISH
X-ORIGINAL-URL:https://sanctissimaeucharistia.de
X-WR-CALDESC:Veranstaltungen für Katholische Pfarrgemeinde Sanctissima Eucharistia
REFRESH-INTERVAL;VALUE=DURATION:PT1H
X-Robots-Tag:noindex
X-PUBLISHED-TTL:PT1H
BEGIN:VTIMEZONE
TZID:Europe/Paris
BEGIN:DAYLIGHT
TZOFFSETFROM:+0100
TZOFFSETTO:+0200
TZNAME:CEST
DTSTART:20230326T010000
END:DAYLIGHT
BEGIN:STANDARD
TZOFFSETFROM:+0200
TZOFFSETTO:+0100
TZNAME:CET
DTSTART:20231029T010000
END:STANDARD
BEGIN:DAYLIGHT
TZOFFSETFROM:+0100
TZOFFSETTO:+0200
TZNAME:CEST
DTSTART:20240331T010000
END:DAYLIGHT
BEGIN:STANDARD
TZOFFSETFROM:+0200
TZOFFSETTO:+0100
TZNAME:CET
DTSTART:20241027T010000
END:STANDARD
BEGIN:DAYLIGHT
TZOFFSETFROM:+0100
TZOFFSETTO:+0200
TZNAME:CEST
DTSTART:20250330T010000
END:DAYLIGHT
BEGIN:STANDARD
TZOFFSETFROM:+0200
TZOFFSETTO:+0100
TZNAME:CET
DTSTART:20251026T010000
END:STANDARD
END:VTIMEZONE
BEGIN:VEVENT
DTSTART;TZID=Europe/Paris:20240317T060000
DTEND;TZID=Europe/Paris:20240317T090000
DTSTAMP:20260424T110051
CREATED:20240303T171609Z
LAST-MODIFIED:20240303T171609Z
UID:1626-1710655200-1710666000@sanctissimaeucharistia.de
SUMMARY:Ökumenischer Meditationsgang der Männer
DESCRIPTION:
URL:https://sanctissimaeucharistia.de/event/oekumenischer-meditationsgang-der-maenner-2/
LOCATION:Waldfriedhof Kleinmachnow\, Steinweg 1\, Kleinmachnow\, 14532\, Deutschland
CATEGORIES:Gottesdienst
END:VEVENT
BEGIN:VEVENT
DTSTART;TZID=Europe/Paris:20240317T100000
DTEND;TZID=Europe/Paris:20240317T110000
DTSTAMP:20260424T110051
CREATED:20240313T093329Z
LAST-MODIFIED:20240313T093329Z
UID:1683-1710669600-1710673200@sanctissimaeucharistia.de
SUMMARY:Ministrantenstunde
DESCRIPTION:
URL:https://sanctissimaeucharistia.de/event/ministrantenstunde-3/
LOCATION:Sanctissima Eucharistia Teltow\, Ruhlsdorfer Str. 28\, Teltow\, 14513\, Deutschland
CATEGORIES:Ministranten
END:VEVENT
BEGIN:VEVENT
DTSTART;TZID=Europe/Paris:20240317T120000
DTEND;TZID=Europe/Paris:20240317T130000
DTSTAMP:20260424T110051
CREATED:20240303T170710Z
LAST-MODIFIED:20240303T183718Z
UID:1614-1710676800-1710680400@sanctissimaeucharistia.de
SUMMARY:Palmbusch basteln
DESCRIPTION:Herzliche Einladung für alle Kinder und Eltern zum \nPalmbuschen basteln\nam Sonntag\, 17. März 2024 \nnach der Hl. Messe \nvon ca.12.00 -13.00 Uhr \nim Pfarrsaal von \nSt. Thomas Morus Kleinmachnow \n  \nEure gebastelten Sträuße könnt ihr dann zum \nPalmsonntag \nam 24. März 2024 \nmit in die Kirche bringen und segnen lassen.
URL:https://sanctissimaeucharistia.de/event/palmbusch-basteln/
LOCATION:St. Thomas Morus Kleinmachnow\, Hohe Kiefer 113\, Kleinmachnow\, 14532\, Deutschland
CATEGORIES:Kinder
END:VEVENT
BEGIN:VEVENT
DTSTART;TZID=Europe/Paris:20240317T170000
DTEND;TZID=Europe/Paris:20240317T180000
DTSTAMP:20260424T110051
CREATED:20240303T171352Z
LAST-MODIFIED:20240303T171352Z
UID:1624-1710694800-1710698400@sanctissimaeucharistia.de
SUMMARY:Ökumenische Passionsandacht
DESCRIPTION:Am 5. Fastensonntag\, 17. März 2024\, gestaltet der Teltower Kirchenchor unter der\nLeitung von Frau Henniger um 17 Uhr wieder eine ökumenische Passionsandacht in\nder Kirche Sanctissima Eucharistia in Teltow. Damit wird eine weitere schöne\nTradition unserer Gemeinde\, die durch die Pandemie unterbrochen wurde\, wieder\naufgenommen. Herzliche Einladung!
URL:https://sanctissimaeucharistia.de/event/oekumenische-passionsandacht-2/
LOCATION:Sanctissima Eucharistia Teltow\, Ruhlsdorfer Str. 28\, Teltow\, 14513\, Deutschland
CATEGORIES:Gottesdienst
END:VEVENT
END:VCALENDAR