BEGIN:VCALENDAR
VERSION:2.0
PRODID:-//Katholische Pfarrgemeinde Sanctissima Eucharistia - ECPv6.15.20//NONSGML v1.0//EN
CALSCALE:GREGORIAN
METHOD:PUBLISH
X-WR-CALNAME:Katholische Pfarrgemeinde Sanctissima Eucharistia
X-ORIGINAL-URL:https://sanctissimaeucharistia.de
X-WR-CALDESC:Veranstaltungen für Katholische Pfarrgemeinde Sanctissima Eucharistia
REFRESH-INTERVAL;VALUE=DURATION:PT1H
X-Robots-Tag:noindex
X-PUBLISHED-TTL:PT1H
BEGIN:VTIMEZONE
TZID:Europe/Paris
BEGIN:DAYLIGHT
TZOFFSETFROM:+0100
TZOFFSETTO:+0200
TZNAME:CEST
DTSTART:20230326T010000
END:DAYLIGHT
BEGIN:STANDARD
TZOFFSETFROM:+0200
TZOFFSETTO:+0100
TZNAME:CET
DTSTART:20231029T010000
END:STANDARD
BEGIN:DAYLIGHT
TZOFFSETFROM:+0100
TZOFFSETTO:+0200
TZNAME:CEST
DTSTART:20240331T010000
END:DAYLIGHT
BEGIN:STANDARD
TZOFFSETFROM:+0200
TZOFFSETTO:+0100
TZNAME:CET
DTSTART:20241027T010000
END:STANDARD
BEGIN:DAYLIGHT
TZOFFSETFROM:+0100
TZOFFSETTO:+0200
TZNAME:CEST
DTSTART:20250330T010000
END:DAYLIGHT
BEGIN:STANDARD
TZOFFSETFROM:+0200
TZOFFSETTO:+0100
TZNAME:CET
DTSTART:20251026T010000
END:STANDARD
END:VTIMEZONE
BEGIN:VEVENT
DTSTART;TZID=Europe/Paris:20240414T110000
DTEND;TZID=Europe/Paris:20240414T120000
DTSTAMP:20260422T112106
CREATED:20240303T191254Z
LAST-MODIFIED:20240303T191254Z
UID:1663-1713092400-1713096000@sanctissimaeucharistia.de
SUMMARY:Erstkommunion in St. Thomas Morus
DESCRIPTION:Die Erstkommunionfeier ist 11:00 Uhr.\nDie Dankandacht feiern wir 17:30 Uhr. \n(Aus Platzgründen werden alle Gläubigen gebeten\, die zusätzliche Hl. Messe um 9.00 Uhr am Erstkommunionort mitzufeiern.)
URL:https://sanctissimaeucharistia.de/event/erstkommunion-in-st-thomas-morus/
LOCATION:St. Thomas Morus Kleinmachnow\, Hohe Kiefer 113\, Kleinmachnow\, 14532\, Deutschland
CATEGORIES:Gottesdienst
END:VEVENT
BEGIN:VEVENT
DTSTART;TZID=Europe/Paris:20240414T190000
DTEND;TZID=Europe/Paris:20240414T200000
DTSTAMP:20260422T112106
CREATED:20240303T160723Z
LAST-MODIFIED:20240303T160723Z
UID:1593-1713121200-1713124800@sanctissimaeucharistia.de
SUMMARY:TaizéAndacht
DESCRIPTION:Abwechselnd in der Katholischen Kirche St. Thomas Morus in Kleinmachnow und der evangelischen St. Andreaskirche in Teltow finden die ökumenischen Taizéandachten statt. Beginn ist jeweils 19:00 Uhr.
URL:https://sanctissimaeucharistia.de/event/taizeandacht-11/
LOCATION:St. Thomas Morus Kleinmachnow\, Hohe Kiefer 113\, Kleinmachnow\, 14532\, Deutschland
CATEGORIES:Gottesdienst
END:VEVENT
END:VCALENDAR