BEGIN:VCALENDAR
VERSION:2.0
PRODID:-//Katholische Pfarrgemeinde Sanctissima Eucharistia - ECPv6.15.20//NONSGML v1.0//EN
CALSCALE:GREGORIAN
METHOD:PUBLISH
X-WR-CALNAME:Katholische Pfarrgemeinde Sanctissima Eucharistia
X-ORIGINAL-URL:https://sanctissimaeucharistia.de
X-WR-CALDESC:Veranstaltungen für Katholische Pfarrgemeinde Sanctissima Eucharistia
REFRESH-INTERVAL;VALUE=DURATION:PT1H
X-Robots-Tag:noindex
X-PUBLISHED-TTL:PT1H
BEGIN:VTIMEZONE
TZID:Europe/Paris
BEGIN:DAYLIGHT
TZOFFSETFROM:+0100
TZOFFSETTO:+0200
TZNAME:CEST
DTSTART:20230326T010000
END:DAYLIGHT
BEGIN:STANDARD
TZOFFSETFROM:+0200
TZOFFSETTO:+0100
TZNAME:CET
DTSTART:20231029T010000
END:STANDARD
BEGIN:DAYLIGHT
TZOFFSETFROM:+0100
TZOFFSETTO:+0200
TZNAME:CEST
DTSTART:20240331T010000
END:DAYLIGHT
BEGIN:STANDARD
TZOFFSETFROM:+0200
TZOFFSETTO:+0100
TZNAME:CET
DTSTART:20241027T010000
END:STANDARD
BEGIN:DAYLIGHT
TZOFFSETFROM:+0100
TZOFFSETTO:+0200
TZNAME:CEST
DTSTART:20250330T010000
END:DAYLIGHT
BEGIN:STANDARD
TZOFFSETFROM:+0200
TZOFFSETTO:+0100
TZNAME:CET
DTSTART:20251026T010000
END:STANDARD
END:VTIMEZONE
BEGIN:VEVENT
DTSTART;TZID=Europe/Paris:20240520T090000
DTEND;TZID=Europe/Paris:20240520T160000
DTSTAMP:20260420T095558
CREATED:20240303T171857Z
LAST-MODIFIED:20240512T150311Z
UID:1628-1716195600-1716220800@sanctissimaeucharistia.de
SUMMARY:Märkischer Katholikentag in Brandenburg an der Havel
DESCRIPTION:Am Pfingstmontag findet der Märkische Katholikentag in Brandenburg an der Havel statt. \nEröffnung im Dom St. Peter und Paul zu Brandenburg an der Havel \nab 09.00 Uhr Beichtgelegenheit im Brandenburger Dom\n10.00 Uhr Heilige Messe im Brandenburger Dom mit Erzbischof Dr. Heiner Koch \nWeiteres Programm auf dem Gelände der Pfarrei\nHeilige Dreifaltigkeit\, Neustädtische Heidestraße 25 \n12.00 Uhr Mittagessen\, Getränke\, Kaffee\, Kuchen\n13.00 Uhr Konzert unter Bäumen\, Infostände \nEucharistische Anbetung in der Pfarrkirche Vortrag im Saal: Pfarrer Dr. Josef Wieneke: „Erich Klausener – Vorbild für christliches Engagement heute?“\nBuchverkauf der Buchhandlung „Sonnenhaus“ vor dem Dom\nFußballturnier auf dem Gelände des Pauliklosters\nFußballschuhe (Achtung nur ohne Stollen!) und Sportkleidung nicht vergessen. Die Mannschaften werden vor Ort aufgestellt. \n14.30 Uhr Abschluss mit Segen (vor dem Gemeindehaus) \nEmpfehlung: Autos möglichst auf dem Parkplatz Grillendamm
URL:https://sanctissimaeucharistia.de/event/maerkischer-katholikentag-in-brandenburg-an-der-havel/
CATEGORIES:Gottesdienst,Veranstaltung
END:VEVENT
END:VCALENDAR