BEGIN:VCALENDAR
VERSION:2.0
PRODID:-//Katholische Pfarrgemeinde Sanctissima Eucharistia - ECPv6.15.20//NONSGML v1.0//EN
CALSCALE:GREGORIAN
METHOD:PUBLISH
X-WR-CALNAME:Katholische Pfarrgemeinde Sanctissima Eucharistia
X-ORIGINAL-URL:https://sanctissimaeucharistia.de
X-WR-CALDESC:Veranstaltungen für Katholische Pfarrgemeinde Sanctissima Eucharistia
REFRESH-INTERVAL;VALUE=DURATION:PT1H
X-Robots-Tag:noindex
X-PUBLISHED-TTL:PT1H
BEGIN:VTIMEZONE
TZID:Europe/Paris
BEGIN:DAYLIGHT
TZOFFSETFROM:+0100
TZOFFSETTO:+0200
TZNAME:CEST
DTSTART:20230326T010000
END:DAYLIGHT
BEGIN:STANDARD
TZOFFSETFROM:+0200
TZOFFSETTO:+0100
TZNAME:CET
DTSTART:20231029T010000
END:STANDARD
BEGIN:DAYLIGHT
TZOFFSETFROM:+0100
TZOFFSETTO:+0200
TZNAME:CEST
DTSTART:20240331T010000
END:DAYLIGHT
BEGIN:STANDARD
TZOFFSETFROM:+0200
TZOFFSETTO:+0100
TZNAME:CET
DTSTART:20241027T010000
END:STANDARD
BEGIN:DAYLIGHT
TZOFFSETFROM:+0100
TZOFFSETTO:+0200
TZNAME:CEST
DTSTART:20250330T010000
END:DAYLIGHT
BEGIN:STANDARD
TZOFFSETFROM:+0200
TZOFFSETTO:+0100
TZNAME:CET
DTSTART:20251026T010000
END:STANDARD
END:VTIMEZONE
BEGIN:VEVENT
DTSTART;TZID=Europe/Paris:20240530T090000
DTEND;TZID=Europe/Paris:20240530T130000
DTSTAMP:20260420T080752
CREATED:20240512T150625Z
LAST-MODIFIED:20240512T150625Z
UID:1706-1717059600-1717074000@sanctissimaeucharistia.de
SUMMARY:Fronleichnamsfest für Schülerinnen und Schüler
DESCRIPTION:Donnerstag\, 30. Mai 2024\, in Teltow \n9.00 Uhr Heilige Messe in der Pfarrkirche Sanctissima Eucharistia\nRuhlsdorfer Str. 28\, 14513 Teltow \nAnschließend bis 13.00 Uhr:\n– Sport\n– Spiele\n– Hot-Dog-Stand \nAnmeldung erbeten bis spätestens 24. Mai 2024 per Mail an Schwester Elisabeth (herzjesuschwestern@t-online.de) \nVerkehrsanbindung per Bus (Linie 601\, X1 – Haltestelle Ruhlsdorfer Platz)\noder S-Bahnhof Teltow Stadt \nZu diesem Feiertag dürfen Eltern ihre schulpflichtigen Kinder laut Schulgesetz vom Unterricht freistellen. Schriftliche Information der Schule bis 27. Mai erforderlich.
URL:https://sanctissimaeucharistia.de/event/fronleichnamsfest-fuer-schuelerinnen-und-schueler/
LOCATION:Sanctissima Eucharistia Teltow\, Ruhlsdorfer Str. 28\, Teltow\, 14513\, Deutschland
CATEGORIES:Kinder
END:VEVENT
END:VCALENDAR