BEGIN:VCALENDAR
VERSION:2.0
PRODID:-//Katholische Pfarrgemeinde Sanctissima Eucharistia - ECPv6.15.20//NONSGML v1.0//EN
CALSCALE:GREGORIAN
METHOD:PUBLISH
X-ORIGINAL-URL:https://sanctissimaeucharistia.de
X-WR-CALDESC:Veranstaltungen für Katholische Pfarrgemeinde Sanctissima Eucharistia
REFRESH-INTERVAL;VALUE=DURATION:PT1H
X-Robots-Tag:noindex
X-PUBLISHED-TTL:PT1H
BEGIN:VTIMEZONE
TZID:Europe/Paris
BEGIN:DAYLIGHT
TZOFFSETFROM:+0100
TZOFFSETTO:+0200
TZNAME:CEST
DTSTART:20230326T010000
END:DAYLIGHT
BEGIN:STANDARD
TZOFFSETFROM:+0200
TZOFFSETTO:+0100
TZNAME:CET
DTSTART:20231029T010000
END:STANDARD
BEGIN:DAYLIGHT
TZOFFSETFROM:+0100
TZOFFSETTO:+0200
TZNAME:CEST
DTSTART:20240331T010000
END:DAYLIGHT
BEGIN:STANDARD
TZOFFSETFROM:+0200
TZOFFSETTO:+0100
TZNAME:CET
DTSTART:20241027T010000
END:STANDARD
BEGIN:DAYLIGHT
TZOFFSETFROM:+0100
TZOFFSETTO:+0200
TZNAME:CEST
DTSTART:20250330T010000
END:DAYLIGHT
BEGIN:STANDARD
TZOFFSETFROM:+0200
TZOFFSETTO:+0100
TZNAME:CET
DTSTART:20251026T010000
END:STANDARD
END:VTIMEZONE
BEGIN:VEVENT
DTSTART;VALUE=DATE:20240721
DTEND;VALUE=DATE:20240728
DTSTAMP:20260420T062106
CREATED:20230723T183855Z
LAST-MODIFIED:20240303T183503Z
UID:1349-1721520000-1722124799@sanctissimaeucharistia.de
SUMMARY:Religiöse Kinderwoche
DESCRIPTION:Auch in diesen Sommer können wir vom 21.-27. Juli 2024 im Christian-Schreiber- Haus Alt Buchhorst unsere Religiöse Kinderwoche mit Schülerinnen und Schülern der vollendeten 1.-8. Klassen gemeinsam verbringen. Das Thema der RKW lautet in diesem Jahr: pace e bene – einfach leben mit Klara und Franz. \nAnmeldung: https://sanctissimaeucharistia.de/aktuelles/einladung-zur-rkw-2024/
URL:https://sanctissimaeucharistia.de/event/religioese-kinderwoche-2/
CATEGORIES:Kinder
END:VEVENT
END:VCALENDAR