BEGIN:VCALENDAR
VERSION:2.0
PRODID:-//Katholische Pfarrgemeinde Sanctissima Eucharistia - ECPv6.15.20//NONSGML v1.0//EN
CALSCALE:GREGORIAN
METHOD:PUBLISH
X-ORIGINAL-URL:https://sanctissimaeucharistia.de
X-WR-CALDESC:Veranstaltungen für Katholische Pfarrgemeinde Sanctissima Eucharistia
REFRESH-INTERVAL;VALUE=DURATION:PT1H
X-Robots-Tag:noindex
X-PUBLISHED-TTL:PT1H
BEGIN:VTIMEZONE
TZID:Europe/Paris
BEGIN:DAYLIGHT
TZOFFSETFROM:+0100
TZOFFSETTO:+0200
TZNAME:CEST
DTSTART:20230326T010000
END:DAYLIGHT
BEGIN:STANDARD
TZOFFSETFROM:+0200
TZOFFSETTO:+0100
TZNAME:CET
DTSTART:20231029T010000
END:STANDARD
BEGIN:DAYLIGHT
TZOFFSETFROM:+0100
TZOFFSETTO:+0200
TZNAME:CEST
DTSTART:20240331T010000
END:DAYLIGHT
BEGIN:STANDARD
TZOFFSETFROM:+0200
TZOFFSETTO:+0100
TZNAME:CET
DTSTART:20241027T010000
END:STANDARD
BEGIN:DAYLIGHT
TZOFFSETFROM:+0100
TZOFFSETTO:+0200
TZNAME:CEST
DTSTART:20250330T010000
END:DAYLIGHT
BEGIN:STANDARD
TZOFFSETFROM:+0200
TZOFFSETTO:+0100
TZNAME:CET
DTSTART:20251026T010000
END:STANDARD
END:VTIMEZONE
BEGIN:VEVENT
DTSTART;TZID=Europe/Paris:20240915T100000
DTEND;TZID=Europe/Paris:20240915T110000
DTSTAMP:20260420T024137
CREATED:20240908T182340Z
LAST-MODIFIED:20240908T182340Z
UID:1874-1726394400-1726398000@sanctissimaeucharistia.de
SUMMARY:Ministrantenstunde in Teltow
DESCRIPTION:Die nächste Ministrantenstunde der Teltower Minis findet am Sonntag\, 15. September 2024\, statt. Wir treffen uns nach der Hl. Messe in der Sakristei.
URL:https://sanctissimaeucharistia.de/event/ministrantenstunde-in-teltow/
LOCATION:Sanctissima Eucharistia Teltow\, Ruhlsdorfer Str. 28\, Teltow\, 14513\, Deutschland
CATEGORIES:Ministranten
END:VEVENT
BEGIN:VEVENT
DTSTART;TZID=Europe/Paris:20240915T120000
DTEND;TZID=Europe/Paris:20240915T130000
DTSTAMP:20260420T024137
CREATED:20240914T163347Z
LAST-MODIFIED:20240914T163347Z
UID:1902-1726401600-1726405200@sanctissimaeucharistia.de
SUMMARY:Vortrag über den seligen Carlo Acutis
DESCRIPTION:
URL:https://sanctissimaeucharistia.de/event/vortrag-ueber-den-seligen-carlo-acutis/
LOCATION:St. Thomas Morus Kleinmachnow\, Hohe Kiefer 113\, Kleinmachnow\, 14532\, Deutschland
CATEGORIES:Vortrag
END:VEVENT
END:VCALENDAR