BEGIN:VCALENDAR
VERSION:2.0
PRODID:-//Katholische Pfarrgemeinde Sanctissima Eucharistia - ECPv6.15.20//NONSGML v1.0//EN
CALSCALE:GREGORIAN
METHOD:PUBLISH
X-ORIGINAL-URL:https://sanctissimaeucharistia.de
X-WR-CALDESC:Veranstaltungen für Katholische Pfarrgemeinde Sanctissima Eucharistia
REFRESH-INTERVAL;VALUE=DURATION:PT1H
X-Robots-Tag:noindex
X-PUBLISHED-TTL:PT1H
BEGIN:VTIMEZONE
TZID:Europe/Paris
BEGIN:DAYLIGHT
TZOFFSETFROM:+0100
TZOFFSETTO:+0200
TZNAME:CEST
DTSTART:20230326T010000
END:DAYLIGHT
BEGIN:STANDARD
TZOFFSETFROM:+0200
TZOFFSETTO:+0100
TZNAME:CET
DTSTART:20231029T010000
END:STANDARD
BEGIN:DAYLIGHT
TZOFFSETFROM:+0100
TZOFFSETTO:+0200
TZNAME:CEST
DTSTART:20240331T010000
END:DAYLIGHT
BEGIN:STANDARD
TZOFFSETFROM:+0200
TZOFFSETTO:+0100
TZNAME:CET
DTSTART:20241027T010000
END:STANDARD
BEGIN:DAYLIGHT
TZOFFSETFROM:+0100
TZOFFSETTO:+0200
TZNAME:CEST
DTSTART:20250330T010000
END:DAYLIGHT
BEGIN:STANDARD
TZOFFSETFROM:+0200
TZOFFSETTO:+0100
TZNAME:CET
DTSTART:20251026T010000
END:STANDARD
END:VTIMEZONE
BEGIN:VEVENT
DTSTART;TZID=Europe/Paris:20240928T093000
DTEND;TZID=Europe/Paris:20240928T163000
DTSTAMP:20260420T025149
CREATED:20240908T185102Z
LAST-MODIFIED:20240908T185102Z
UID:1880-1727515800-1727541000@sanctissimaeucharistia.de
SUMMARY:Mini-Wallfahrt nach AB
DESCRIPTION:Am 28. September 2024 fahren wir zur Mini-Wallfahrt nach AB. Meldet Euch bitte bei Ronny an\, wenn Ihr mitfahren möchtet: ministranten@sanctissima-eucharistia.de
URL:https://sanctissimaeucharistia.de/event/mini-wallfahrt-nach-ab/
LOCATION:Christian-Schreiber-Haus\, Feldweg 10\, Grünheide (Mark) OT Alt Buchhorst\, 15537\, Germany
CATEGORIES:Ministranten,Wallfahrt
END:VEVENT
END:VCALENDAR