BEGIN:VCALENDAR
VERSION:2.0
PRODID:-//Katholische Pfarrgemeinde Sanctissima Eucharistia - ECPv6.15.20//NONSGML v1.0//EN
CALSCALE:GREGORIAN
METHOD:PUBLISH
X-ORIGINAL-URL:https://sanctissimaeucharistia.de
X-WR-CALDESC:Veranstaltungen für Katholische Pfarrgemeinde Sanctissima Eucharistia
REFRESH-INTERVAL;VALUE=DURATION:PT1H
X-Robots-Tag:noindex
X-PUBLISHED-TTL:PT1H
BEGIN:VTIMEZONE
TZID:Europe/Paris
BEGIN:DAYLIGHT
TZOFFSETFROM:+0100
TZOFFSETTO:+0200
TZNAME:CEST
DTSTART:20230326T010000
END:DAYLIGHT
BEGIN:STANDARD
TZOFFSETFROM:+0200
TZOFFSETTO:+0100
TZNAME:CET
DTSTART:20231029T010000
END:STANDARD
BEGIN:DAYLIGHT
TZOFFSETFROM:+0100
TZOFFSETTO:+0200
TZNAME:CEST
DTSTART:20240331T010000
END:DAYLIGHT
BEGIN:STANDARD
TZOFFSETFROM:+0200
TZOFFSETTO:+0100
TZNAME:CET
DTSTART:20241027T010000
END:STANDARD
BEGIN:DAYLIGHT
TZOFFSETFROM:+0100
TZOFFSETTO:+0200
TZNAME:CEST
DTSTART:20250330T010000
END:DAYLIGHT
BEGIN:STANDARD
TZOFFSETFROM:+0200
TZOFFSETTO:+0100
TZNAME:CET
DTSTART:20251026T010000
END:STANDARD
END:VTIMEZONE
BEGIN:VEVENT
DTSTART;TZID=Europe/Paris:20241111T163000
DTEND;TZID=Europe/Paris:20241111T180000
DTSTAMP:20260420T010337
CREATED:20241013T145028Z
LAST-MODIFIED:20241013T145028Z
UID:1963-1731342600-1731348000@sanctissimaeucharistia.de
SUMMARY:Sankt Martin in der KiTa
DESCRIPTION:Am Montag\, 11. November\, wird in der Kath. Kita St. Thomas Morus in Kleinmachnow ab 16.30 Uhr wieder ein traditionelles St.-Martins-Fest gefeiert.\nDazu sind auch alle anderen Kinder aus der Gemeinde herzlich eingeladen!
URL:https://sanctissimaeucharistia.de/event/sankt-martin-in-der-kita/
LOCATION:KiTa St. Thomas Morus\, Adolf-Grimme-Ring 5\, Kleinmachnow\, Brandenburg\, 14513\, Deutschland
CATEGORIES:Kinder,Veranstaltung
END:VEVENT
END:VCALENDAR