BEGIN:VCALENDAR
VERSION:2.0
PRODID:-//Katholische Pfarrgemeinde Sanctissima Eucharistia - ECPv6.15.20//NONSGML v1.0//EN
CALSCALE:GREGORIAN
METHOD:PUBLISH
X-WR-CALNAME:Katholische Pfarrgemeinde Sanctissima Eucharistia
X-ORIGINAL-URL:https://sanctissimaeucharistia.de
X-WR-CALDESC:Veranstaltungen für Katholische Pfarrgemeinde Sanctissima Eucharistia
REFRESH-INTERVAL;VALUE=DURATION:PT1H
X-Robots-Tag:noindex
X-PUBLISHED-TTL:PT1H
BEGIN:VTIMEZONE
TZID:Europe/Paris
BEGIN:DAYLIGHT
TZOFFSETFROM:+0100
TZOFFSETTO:+0200
TZNAME:CEST
DTSTART:20240331T010000
END:DAYLIGHT
BEGIN:STANDARD
TZOFFSETFROM:+0200
TZOFFSETTO:+0100
TZNAME:CET
DTSTART:20241027T010000
END:STANDARD
BEGIN:DAYLIGHT
TZOFFSETFROM:+0100
TZOFFSETTO:+0200
TZNAME:CEST
DTSTART:20250330T010000
END:DAYLIGHT
BEGIN:STANDARD
TZOFFSETFROM:+0200
TZOFFSETTO:+0100
TZNAME:CET
DTSTART:20251026T010000
END:STANDARD
BEGIN:DAYLIGHT
TZOFFSETFROM:+0100
TZOFFSETTO:+0200
TZNAME:CEST
DTSTART:20260329T010000
END:DAYLIGHT
BEGIN:STANDARD
TZOFFSETFROM:+0200
TZOFFSETTO:+0100
TZNAME:CET
DTSTART:20261025T010000
END:STANDARD
END:VTIMEZONE
BEGIN:VEVENT
DTSTART;TZID=Europe/Paris:20250406T120000
DTEND;TZID=Europe/Paris:20250406T130000
DTSTAMP:20260419T141545
CREATED:20250324T122046Z
LAST-MODIFIED:20250324T122046Z
UID:2135-1743940800-1743944400@sanctissimaeucharistia.de
SUMMARY:Palmbusch-Binden
DESCRIPTION:Alle Kinder sind eingeladen.
URL:https://sanctissimaeucharistia.de/event/palmbusch-binden/
LOCATION:St. Thomas Morus Kleinmachnow\, Hohe Kiefer 113\, Kleinmachnow\, 14532\, Deutschland
CATEGORIES:Kinder
END:VEVENT
BEGIN:VEVENT
DTSTART;TZID=Europe/Paris:20250406T170000
DTEND;TZID=Europe/Paris:20250406T180000
DTSTAMP:20260419T141545
CREATED:20250324T121749Z
LAST-MODIFIED:20250324T121749Z
UID:2133-1743958800-1743962400@sanctissimaeucharistia.de
SUMMARY:Ökumenische Passionsandacht
DESCRIPTION:
URL:https://sanctissimaeucharistia.de/event/oekumenische-passionsandacht-3/
LOCATION:Sanctissima Eucharistia Teltow\, Ruhlsdorfer Str. 28\, Teltow\, 14513\, Deutschland
CATEGORIES:Gottesdienst
END:VEVENT
END:VCALENDAR