BEGIN:VCALENDAR
VERSION:2.0
PRODID:-//Katholische Pfarrgemeinde Sanctissima Eucharistia - ECPv6.15.20//NONSGML v1.0//EN
CALSCALE:GREGORIAN
METHOD:PUBLISH
X-WR-CALNAME:Katholische Pfarrgemeinde Sanctissima Eucharistia
X-ORIGINAL-URL:https://sanctissimaeucharistia.de
X-WR-CALDESC:Veranstaltungen für Katholische Pfarrgemeinde Sanctissima Eucharistia
REFRESH-INTERVAL;VALUE=DURATION:PT1H
X-Robots-Tag:noindex
X-PUBLISHED-TTL:PT1H
BEGIN:VTIMEZONE
TZID:Europe/Paris
BEGIN:DAYLIGHT
TZOFFSETFROM:+0100
TZOFFSETTO:+0200
TZNAME:CEST
DTSTART:20240331T010000
END:DAYLIGHT
BEGIN:STANDARD
TZOFFSETFROM:+0200
TZOFFSETTO:+0100
TZNAME:CET
DTSTART:20241027T010000
END:STANDARD
BEGIN:DAYLIGHT
TZOFFSETFROM:+0100
TZOFFSETTO:+0200
TZNAME:CEST
DTSTART:20250330T010000
END:DAYLIGHT
BEGIN:STANDARD
TZOFFSETFROM:+0200
TZOFFSETTO:+0100
TZNAME:CET
DTSTART:20251026T010000
END:STANDARD
BEGIN:DAYLIGHT
TZOFFSETFROM:+0100
TZOFFSETTO:+0200
TZNAME:CEST
DTSTART:20260329T010000
END:DAYLIGHT
BEGIN:STANDARD
TZOFFSETFROM:+0200
TZOFFSETTO:+0100
TZNAME:CET
DTSTART:20261025T010000
END:STANDARD
END:VTIMEZONE
BEGIN:VEVENT
DTSTART;TZID=Europe/Paris:20250418T070000
DTEND;TZID=Europe/Paris:20250418T090000
DTSTAMP:20260419T141705
CREATED:20250303T105704Z
LAST-MODIFIED:20250303T105704Z
UID:2112-1744959600-1744966800@sanctissimaeucharistia.de
SUMMARY:Ökumenischer Meditationsgang der Frauen am Karfreitag
DESCRIPTION:Ökumenischer Meditationsgang der Frauen am Karfreitag \nFrauen unserer und der evangelischen Gemeinden Kleinmachnow beten gemeinsam an verschiedenen Orten und halten Andachten. Wir beginnen unseren Meditationsgang am Karfreitag\, 18.04\, um 7:00 Uhr an der Friedhofskapelle in Kleinmachnow und gehen dann schweigend über mehrere Stationen bis zur evangelischen Dorfkirche. Es wäre schön\, wenn jeder eine Kerze im Glas mitbringt. \nIrmgard Mann
URL:https://sanctissimaeucharistia.de/event/oekumenischer-meditationsgang-der-frauen-am-karfreitag/
LOCATION:Waldfriedhof Kleinmachnow\, Steinweg 1\, Kleinmachnow\, 14532\, Deutschland
CATEGORIES:Gottesdienst
END:VEVENT
BEGIN:VEVENT
DTSTART;TZID=Europe/Paris:20250418T150000
DTEND;TZID=Europe/Paris:20250418T160000
DTSTAMP:20260419T141705
CREATED:20250413T151305Z
LAST-MODIFIED:20250413T151312Z
UID:2178-1744988400-1744992000@sanctissimaeucharistia.de
SUMMARY:Karfreitag
DESCRIPTION:15:00 Uhr in Teltow \n15:00 Uhr in Kleinmachnow
URL:https://sanctissimaeucharistia.de/event/karfreitag/
CATEGORIES:Gottesdienst
END:VEVENT
END:VCALENDAR