BEGIN:VCALENDAR
VERSION:2.0
PRODID:-//Katholische Pfarrgemeinde Sanctissima Eucharistia - ECPv6.15.20//NONSGML v1.0//EN
CALSCALE:GREGORIAN
METHOD:PUBLISH
X-ORIGINAL-URL:https://sanctissimaeucharistia.de
X-WR-CALDESC:Veranstaltungen für Katholische Pfarrgemeinde Sanctissima Eucharistia
REFRESH-INTERVAL;VALUE=DURATION:PT1H
X-Robots-Tag:noindex
X-PUBLISHED-TTL:PT1H
BEGIN:VTIMEZONE
TZID:Europe/Paris
BEGIN:DAYLIGHT
TZOFFSETFROM:+0100
TZOFFSETTO:+0200
TZNAME:CEST
DTSTART:20220327T010000
END:DAYLIGHT
BEGIN:STANDARD
TZOFFSETFROM:+0200
TZOFFSETTO:+0100
TZNAME:CET
DTSTART:20221030T010000
END:STANDARD
BEGIN:DAYLIGHT
TZOFFSETFROM:+0100
TZOFFSETTO:+0200
TZNAME:CEST
DTSTART:20230326T010000
END:DAYLIGHT
BEGIN:STANDARD
TZOFFSETFROM:+0200
TZOFFSETTO:+0100
TZNAME:CET
DTSTART:20231029T010000
END:STANDARD
BEGIN:DAYLIGHT
TZOFFSETFROM:+0100
TZOFFSETTO:+0200
TZNAME:CEST
DTSTART:20240331T010000
END:DAYLIGHT
BEGIN:STANDARD
TZOFFSETFROM:+0200
TZOFFSETTO:+0100
TZNAME:CET
DTSTART:20241027T010000
END:STANDARD
END:VTIMEZONE
BEGIN:VEVENT
DTSTART;TZID=Europe/Paris:20231001T100000
DTEND;TZID=Europe/Paris:20231001T173000
DTSTAMP:20260424T200416
CREATED:20230916T110025Z
LAST-MODIFIED:20230916T110025Z
UID:1389-1696154400-1696181400@sanctissimaeucharistia.de
SUMMARY:Tag des Ewigen Gebetes
DESCRIPTION:10:00 – 17:00 Anbetung \n17:00 Eucharistische Andacht \nin unserer Pfarrkirche Sanctissima Eucharistia in Teltow
URL:https://sanctissimaeucharistia.de/event/tag-des-ewigen-gebetes/
LOCATION:Sanctissima Eucharistia Teltow\, Ruhlsdorfer Str. 28\, Teltow\, 14513\, Deutschland
CATEGORIES:Gottesdienst
END:VEVENT
BEGIN:VEVENT
DTSTART;TZID=Europe/Paris:20231008T100000
DTEND;TZID=Europe/Paris:20231008T120000
DTSTAMP:20260424T200416
CREATED:20230916T110334Z
LAST-MODIFIED:20230916T110334Z
UID:1391-1696759200-1696766400@sanctissimaeucharistia.de
SUMMARY:Frühschoppen
DESCRIPTION:Am 8. Oktober 2023 findet nach der Heiligen Messe\, ab ca. 10:00 Uhr\, in Teltow unser nächster Frühshoppen statt. \nFür Speis und Trank wird gesorgt\, Ihr seid herzlich eingeladen (um eine kleine Spende für die Aufwendungen wird gebeten).
URL:https://sanctissimaeucharistia.de/event/fruehschoppen-2/
LOCATION:Sanctissima Eucharistia Teltow\, Ruhlsdorfer Str. 28\, Teltow\, 14513\, Deutschland
CATEGORIES:Veranstaltung
END:VEVENT
BEGIN:VEVENT
DTSTART;TZID=Europe/Paris:20231008T170000
DTEND;TZID=Europe/Paris:20231008T173000
DTSTAMP:20260424T200416
CREATED:20230916T110702Z
LAST-MODIFIED:20230916T110702Z
UID:1399-1696784400-1696786200@sanctissimaeucharistia.de
SUMMARY:Rosenkranzandacht
DESCRIPTION:in Teltow und Kleinmachnow
URL:https://sanctissimaeucharistia.de/event/rosenkranzandacht-4/
CATEGORIES:Gottesdienst
END:VEVENT
BEGIN:VEVENT
DTSTART;TZID=Europe/Paris:20231008T190000
DTEND;TZID=Europe/Paris:20231008T200000
DTSTAMP:20260424T200416
CREATED:20231008T151824Z
LAST-MODIFIED:20231008T151824Z
UID:1429-1696791600-1696795200@sanctissimaeucharistia.de
SUMMARY:TaizéAndacht
DESCRIPTION:Abwechselnd in der Katholischen Kirche St. Thomas Morus in Kleinmachnow und der evangelischen St. Andreaskirche in Teltow finden die ökumenischen Taizéandachten statt. Beginn ist jeweils 19:00 Uhr.
URL:https://sanctissimaeucharistia.de/event/taizeandacht-7/
LOCATION:St. Thomas Morus Kleinmachnow\, Hohe Kiefer 113\, Kleinmachnow\, 14532\, Deutschland
CATEGORIES:Gottesdienst
END:VEVENT
BEGIN:VEVENT
DTSTART;TZID=Europe/Paris:20231009T191500
DTEND;TZID=Europe/Paris:20231009T201500
DTSTAMP:20260424T200416
CREATED:20231008T153130Z
LAST-MODIFIED:20231008T153130Z
UID:1437-1696878900-1696882500@sanctissimaeucharistia.de
SUMMARY:Vortrag - Das Wirken des Papstes Pius XII.
DESCRIPTION:Die Kolpingsfamilie Teltow lädt ein zum Vortrag “Das Wirken des Papstes Pius XII.”\, Referent Herr Pfarrer Swiderek.
URL:https://sanctissimaeucharistia.de/event/vortrag-das-wirken-des-papstes-pius-xii/
LOCATION:Sanctissima Eucharistia Teltow\, Ruhlsdorfer Str. 28\, Teltow\, 14513\, Deutschland
CATEGORIES:Vortrag
END:VEVENT
BEGIN:VEVENT
DTSTART;TZID=Europe/Paris:20231015T170000
DTEND;TZID=Europe/Paris:20231015T173000
DTSTAMP:20260424T200416
CREATED:20230916T110447Z
LAST-MODIFIED:20230916T110447Z
UID:1393-1697389200-1697391000@sanctissimaeucharistia.de
SUMMARY:Rosenkranzandacht
DESCRIPTION:in Teltow und Kleinmachnow
URL:https://sanctissimaeucharistia.de/event/rosenkranzandacht/
CATEGORIES:Gottesdienst
END:VEVENT
BEGIN:VEVENT
DTSTART;TZID=Europe/Paris:20231020T191500
DTEND;TZID=Europe/Paris:20231020T201500
DTSTAMP:20260424T200416
CREATED:20231008T153853Z
LAST-MODIFIED:20231008T153853Z
UID:1441-1697829300-1697832900@sanctissimaeucharistia.de
SUMMARY:Erstes Treffen zum Krippenspiel in Teltow
DESCRIPTION:Wir suchen Euch! \nDieses Jahr möchten wir wieder ein\nKrippenspiel in Teltow auf die Beine stellen.\nDazu brauchen wir Euch! \nEs wird Rollen mit und ohne Text geben\, da ist für alle etwas dabei.\nWenn du Lust hast mitzumachen\, dann melde Dich schnell bei Julia Kretschmer an. \nUnser erstes Info-Treffen soll am Freitag 20.10.2023 um 19:15\, in Teltow\, stattfinden. \nP.S. Wir suchen nicht nur Kinder\, auch Jugendliche und Erwachsene\,\ndie Lust haben\, sind herzlich eingeladen!
URL:https://sanctissimaeucharistia.de/event/erstes-treffen-zum-krippenspiel-in-teltow/
LOCATION:Sanctissima Eucharistia Teltow\, Ruhlsdorfer Str. 28\, Teltow\, 14513\, Deutschland
CATEGORIES:Kinder
END:VEVENT
BEGIN:VEVENT
DTSTART;TZID=Europe/Paris:20231022T170000
DTEND;TZID=Europe/Paris:20231022T173000
DTSTAMP:20260424T200416
CREATED:20230916T110524Z
LAST-MODIFIED:20230916T110524Z
UID:1395-1697994000-1697995800@sanctissimaeucharistia.de
SUMMARY:Rosenkranzandacht
DESCRIPTION:in Teltow und Kleinmachnow
URL:https://sanctissimaeucharistia.de/event/rosenkranzandacht-2/
CATEGORIES:Gottesdienst
END:VEVENT
BEGIN:VEVENT
DTSTART;TZID=Europe/Paris:20231029T170000
DTEND;TZID=Europe/Paris:20231029T173000
DTSTAMP:20260424T200416
CREATED:20230916T110611Z
LAST-MODIFIED:20230916T110611Z
UID:1397-1698598800-1698600600@sanctissimaeucharistia.de
SUMMARY:Rosenkranzandacht
DESCRIPTION:in Teltow und Kleinmachnow
URL:https://sanctissimaeucharistia.de/event/rosenkranzandacht-3/
CATEGORIES:Gottesdienst
END:VEVENT
END:VCALENDAR