BEGIN:VCALENDAR
VERSION:2.0
PRODID:-//Katholische Pfarrgemeinde Sanctissima Eucharistia - ECPv6.15.20//NONSGML v1.0//EN
CALSCALE:GREGORIAN
METHOD:PUBLISH
X-ORIGINAL-URL:https://sanctissimaeucharistia.de
X-WR-CALDESC:Veranstaltungen für Katholische Pfarrgemeinde Sanctissima Eucharistia
REFRESH-INTERVAL;VALUE=DURATION:PT1H
X-Robots-Tag:noindex
X-PUBLISHED-TTL:PT1H
BEGIN:VTIMEZONE
TZID:Europe/Paris
BEGIN:DAYLIGHT
TZOFFSETFROM:+0100
TZOFFSETTO:+0200
TZNAME:CEST
DTSTART:20230326T010000
END:DAYLIGHT
BEGIN:STANDARD
TZOFFSETFROM:+0200
TZOFFSETTO:+0100
TZNAME:CET
DTSTART:20231029T010000
END:STANDARD
BEGIN:DAYLIGHT
TZOFFSETFROM:+0100
TZOFFSETTO:+0200
TZNAME:CEST
DTSTART:20240331T010000
END:DAYLIGHT
BEGIN:STANDARD
TZOFFSETFROM:+0200
TZOFFSETTO:+0100
TZNAME:CET
DTSTART:20241027T010000
END:STANDARD
BEGIN:DAYLIGHT
TZOFFSETFROM:+0100
TZOFFSETTO:+0200
TZNAME:CEST
DTSTART:20250330T010000
END:DAYLIGHT
BEGIN:STANDARD
TZOFFSETFROM:+0200
TZOFFSETTO:+0100
TZNAME:CET
DTSTART:20251026T010000
END:STANDARD
END:VTIMEZONE
BEGIN:VEVENT
DTSTART;TZID=Europe/Paris:20240310T170000
DTEND;TZID=Europe/Paris:20240310T180000
DTSTAMP:20260422T112740
CREATED:20240303T170841Z
LAST-MODIFIED:20240303T170841Z
UID:1616-1710090000-1710093600@sanctissimaeucharistia.de
SUMMARY:Kreuzwegandacht
DESCRIPTION:
URL:https://sanctissimaeucharistia.de/event/kreuzwegandacht/
LOCATION:Sanctissima Eucharistia Teltow\, Ruhlsdorfer Str. 28\, Teltow\, 14513\, Deutschland
CATEGORIES:Gottesdienst
END:VEVENT
BEGIN:VEVENT
DTSTART;TZID=Europe/Paris:20240310T170000
DTEND;TZID=Europe/Paris:20240310T180000
DTSTAMP:20260422T112740
CREATED:20240303T170942Z
LAST-MODIFIED:20240303T170942Z
UID:1618-1710090000-1710093600@sanctissimaeucharistia.de
SUMMARY:Kreuzwegandacht
DESCRIPTION:
URL:https://sanctissimaeucharistia.de/event/kreuzwegandacht-2/
LOCATION:St. Thomas Morus Kleinmachnow\, Hohe Kiefer 113\, Kleinmachnow\, 14532\, Deutschland
CATEGORIES:Gottesdienst
END:VEVENT
BEGIN:VEVENT
DTSTART;TZID=Europe/Paris:20240310T190000
DTEND;TZID=Europe/Paris:20240310T200000
DTSTAMP:20260422T112740
CREATED:20240303T160621Z
LAST-MODIFIED:20240303T160621Z
UID:1591-1710097200-1710100800@sanctissimaeucharistia.de
SUMMARY:TaizéAndacht
DESCRIPTION:Abwechselnd in der Katholischen Kirche St. Thomas Morus in Kleinmachnow und der evangelischen St. Andreaskirche in Teltow finden die ökumenischen Taizéandachten statt. Beginn ist jeweils 19:00 Uhr.
URL:https://sanctissimaeucharistia.de/event/taizeandacht-10/
LOCATION:St. Andreaskirche Teltow\, Breite Straße\, Teltow\, 14513\, Deutschland
CATEGORIES:Gottesdienst
END:VEVENT
BEGIN:VEVENT
DTSTART;TZID=Europe/Paris:20240317T060000
DTEND;TZID=Europe/Paris:20240317T090000
DTSTAMP:20260422T112740
CREATED:20240303T171609Z
LAST-MODIFIED:20240303T171609Z
UID:1626-1710655200-1710666000@sanctissimaeucharistia.de
SUMMARY:Ökumenischer Meditationsgang der Männer
DESCRIPTION:
URL:https://sanctissimaeucharistia.de/event/oekumenischer-meditationsgang-der-maenner-2/
LOCATION:Waldfriedhof Kleinmachnow\, Steinweg 1\, Kleinmachnow\, 14532\, Deutschland
CATEGORIES:Gottesdienst
END:VEVENT
BEGIN:VEVENT
DTSTART;TZID=Europe/Paris:20240317T100000
DTEND;TZID=Europe/Paris:20240317T110000
DTSTAMP:20260422T112740
CREATED:20240313T093329Z
LAST-MODIFIED:20240313T093329Z
UID:1683-1710669600-1710673200@sanctissimaeucharistia.de
SUMMARY:Ministrantenstunde
DESCRIPTION:
URL:https://sanctissimaeucharistia.de/event/ministrantenstunde-3/
LOCATION:Sanctissima Eucharistia Teltow\, Ruhlsdorfer Str. 28\, Teltow\, 14513\, Deutschland
CATEGORIES:Ministranten
END:VEVENT
BEGIN:VEVENT
DTSTART;TZID=Europe/Paris:20240317T120000
DTEND;TZID=Europe/Paris:20240317T130000
DTSTAMP:20260422T112740
CREATED:20240303T170710Z
LAST-MODIFIED:20240303T183718Z
UID:1614-1710676800-1710680400@sanctissimaeucharistia.de
SUMMARY:Palmbusch basteln
DESCRIPTION:Herzliche Einladung für alle Kinder und Eltern zum \nPalmbuschen basteln\nam Sonntag\, 17. März 2024 \nnach der Hl. Messe \nvon ca.12.00 -13.00 Uhr \nim Pfarrsaal von \nSt. Thomas Morus Kleinmachnow \n  \nEure gebastelten Sträuße könnt ihr dann zum \nPalmsonntag \nam 24. März 2024 \nmit in die Kirche bringen und segnen lassen.
URL:https://sanctissimaeucharistia.de/event/palmbusch-basteln/
LOCATION:St. Thomas Morus Kleinmachnow\, Hohe Kiefer 113\, Kleinmachnow\, 14532\, Deutschland
CATEGORIES:Kinder
END:VEVENT
BEGIN:VEVENT
DTSTART;TZID=Europe/Paris:20240317T170000
DTEND;TZID=Europe/Paris:20240317T180000
DTSTAMP:20260422T112740
CREATED:20240303T171352Z
LAST-MODIFIED:20240303T171352Z
UID:1624-1710694800-1710698400@sanctissimaeucharistia.de
SUMMARY:Ökumenische Passionsandacht
DESCRIPTION:Am 5. Fastensonntag\, 17. März 2024\, gestaltet der Teltower Kirchenchor unter der\nLeitung von Frau Henniger um 17 Uhr wieder eine ökumenische Passionsandacht in\nder Kirche Sanctissima Eucharistia in Teltow. Damit wird eine weitere schöne\nTradition unserer Gemeinde\, die durch die Pandemie unterbrochen wurde\, wieder\naufgenommen. Herzliche Einladung!
URL:https://sanctissimaeucharistia.de/event/oekumenische-passionsandacht-2/
LOCATION:Sanctissima Eucharistia Teltow\, Ruhlsdorfer Str. 28\, Teltow\, 14513\, Deutschland
CATEGORIES:Gottesdienst
END:VEVENT
BEGIN:VEVENT
DTSTART;TZID=Europe/Paris:20240324T170000
DTEND;TZID=Europe/Paris:20240324T180000
DTSTAMP:20260422T112740
CREATED:20240303T171057Z
LAST-MODIFIED:20240303T171057Z
UID:1620-1711299600-1711303200@sanctissimaeucharistia.de
SUMMARY:Kreuzwegandacht
DESCRIPTION:
URL:https://sanctissimaeucharistia.de/event/kreuzwegandacht-3/
LOCATION:Sanctissima Eucharistia Teltow\, Ruhlsdorfer Str. 28\, Teltow\, 14513\, Deutschland
CATEGORIES:Gottesdienst
END:VEVENT
BEGIN:VEVENT
DTSTART;TZID=Europe/Paris:20240324T170000
DTEND;TZID=Europe/Paris:20240324T180000
DTSTAMP:20260422T112740
CREATED:20240303T171135Z
LAST-MODIFIED:20240303T171135Z
UID:1622-1711299600-1711303200@sanctissimaeucharistia.de
SUMMARY:Kreuzwegandacht
DESCRIPTION:
URL:https://sanctissimaeucharistia.de/event/kreuzwegandacht-4/
LOCATION:St. Thomas Morus Kleinmachnow\, Hohe Kiefer 113\, Kleinmachnow\, 14532\, Deutschland
CATEGORIES:Gottesdienst
END:VEVENT
BEGIN:VEVENT
DTSTART;TZID=Europe/Paris:20240328T110000
DTEND;TZID=Europe/Paris:20240328T123000
DTSTAMP:20260422T112740
CREATED:20240325T195129Z
LAST-MODIFIED:20240325T195129Z
UID:1689-1711623600-1711629000@sanctissimaeucharistia.de
SUMMARY:Ministrantenstunde
DESCRIPTION:Üben für Gründonnerstag und Karfreitag
URL:https://sanctissimaeucharistia.de/event/ministrantenstunde-4/
LOCATION:Sanctissima Eucharistia Teltow\, Ruhlsdorfer Str. 28\, Teltow\, 14513\, Deutschland
CATEGORIES:Ministranten
END:VEVENT
BEGIN:VEVENT
DTSTART;TZID=Europe/Paris:20240329T070000
DTEND;TZID=Europe/Paris:20240329T103000
DTSTAMP:20260422T112740
CREATED:20240304T130345Z
LAST-MODIFIED:20240325T194525Z
UID:1677-1711695600-1711708200@sanctissimaeucharistia.de
SUMMARY:Ökumenischer Meditationsgang der Frauen
DESCRIPTION:In ökumenischer Gemeinschaft gehen katholische und evangelische Christinnen aus Stahnsdorf und Kleinmachnow am Karfreitag Morgen schweigend durch beide Orte. Wir halten an mehreren Stationen inne\, um die Geschichte der Kreuzigung Jesu nach dem Evangelisten Markus zu hören\, um miteinander zu singen und zu beten. \nDies sind die Stationen:\n• 7.00 Uhr Kapelle des Ev. Waldfriedhofs Kleinmachnow\, Steinweg 1\n• ca. 7.30 Uhr Stele der Stillen Helden\, Margarete-Sommer-Platz\n• ca. 8.00 Uhr St.Thomas Morus\n• ca. 8.45 Uhr Evangelische Kirche Stahnsdorf\, Am Dorfplatz\n• ca. 9.20 Uhr Neue Kirche Kleinmachnow \nWer nicht den ganzen Weg mitlaufen kann oder möchte\, möge gerne an den Stationen dazu stoßen. Anschließend nehmen wir ein karges Frühstück im Evangelischen Gemeindehaus ein. \nPfarrerin Elke Rosenthal/ Irmgard Mann
URL:https://sanctissimaeucharistia.de/event/oekumenischer-meditationsgang-der-frauen-2/
LOCATION:Waldfriedhof Kleinmachnow\, Steinweg 1\, Kleinmachnow\, 14532\, Deutschland
CATEGORIES:Gottesdienst
END:VEVENT
BEGIN:VEVENT
DTSTART;TZID=Europe/Paris:20240330T100000
DTEND;TZID=Europe/Paris:20240330T110000
DTSTAMP:20260422T112740
CREATED:20240325T195222Z
LAST-MODIFIED:20240325T195222Z
UID:1691-1711792800-1711796400@sanctissimaeucharistia.de
SUMMARY:Ministrantenstunde
DESCRIPTION:Üben für die Osternacht
URL:https://sanctissimaeucharistia.de/event/ministrantenstunde-5/
LOCATION:Sanctissima Eucharistia Teltow\, Ruhlsdorfer Str. 28\, Teltow\, 14513\, Deutschland
CATEGORIES:Ministranten
END:VEVENT
BEGIN:VEVENT
DTSTART;TZID=Europe/Paris:20240330T200000
DTEND;TZID=Europe/Paris:20240330T220000
DTSTAMP:20260422T112740
CREATED:20240303T184734Z
LAST-MODIFIED:20240303T184917Z
UID:1653-1711828800-1711836000@sanctissimaeucharistia.de
SUMMARY:Feier der Osternacht\, St. Thomas Morus Kleinmachnow
DESCRIPTION:
URL:https://sanctissimaeucharistia.de/event/feier-der-osternacht-st-thomas-morus-kleinmachnow/
LOCATION:St. Thomas Morus Kleinmachnow\, Hohe Kiefer 113\, Kleinmachnow\, 14532\, Deutschland
CATEGORIES:Gottesdienst
END:VEVENT
BEGIN:VEVENT
DTSTART;TZID=Europe/Paris:20240330T213000
DTEND;TZID=Europe/Paris:20240330T233000
DTSTAMP:20260422T112740
CREATED:20240303T184842Z
LAST-MODIFIED:20240303T184842Z
UID:1655-1711834200-1711841400@sanctissimaeucharistia.de
SUMMARY:Feier der Osternacht\, Sanctissima Eucharistia Teltow
DESCRIPTION:
URL:https://sanctissimaeucharistia.de/event/feier-der-osternacht-sanctissima-eucharistia-teltow/
LOCATION:Sanctissima Eucharistia Teltow\, Ruhlsdorfer Str. 28\, Teltow\, 14513\, Deutschland
CATEGORIES:Gottesdienst
END:VEVENT
END:VCALENDAR