BEGIN:VCALENDAR
VERSION:2.0
PRODID:-//Katholische Pfarrgemeinde Sanctissima Eucharistia - ECPv6.15.20//NONSGML v1.0//EN
CALSCALE:GREGORIAN
METHOD:PUBLISH
X-ORIGINAL-URL:https://sanctissimaeucharistia.de
X-WR-CALDESC:Veranstaltungen für Katholische Pfarrgemeinde Sanctissima Eucharistia
REFRESH-INTERVAL;VALUE=DURATION:PT1H
X-Robots-Tag:noindex
X-PUBLISHED-TTL:PT1H
BEGIN:VTIMEZONE
TZID:Europe/Paris
BEGIN:DAYLIGHT
TZOFFSETFROM:+0100
TZOFFSETTO:+0200
TZNAME:CEST
DTSTART:20230326T010000
END:DAYLIGHT
BEGIN:STANDARD
TZOFFSETFROM:+0200
TZOFFSETTO:+0100
TZNAME:CET
DTSTART:20231029T010000
END:STANDARD
BEGIN:DAYLIGHT
TZOFFSETFROM:+0100
TZOFFSETTO:+0200
TZNAME:CEST
DTSTART:20240331T010000
END:DAYLIGHT
BEGIN:STANDARD
TZOFFSETFROM:+0200
TZOFFSETTO:+0100
TZNAME:CET
DTSTART:20241027T010000
END:STANDARD
BEGIN:DAYLIGHT
TZOFFSETFROM:+0100
TZOFFSETTO:+0200
TZNAME:CEST
DTSTART:20250330T010000
END:DAYLIGHT
BEGIN:STANDARD
TZOFFSETFROM:+0200
TZOFFSETTO:+0100
TZNAME:CET
DTSTART:20251026T010000
END:STANDARD
END:VTIMEZONE
BEGIN:VEVENT
DTSTART;TZID=Europe/Paris:20240509T100000
DTEND;TZID=Europe/Paris:20240509T130000
DTSTAMP:20260420T081317
CREATED:20240422T092808Z
LAST-MODIFIED:20240422T092808Z
UID:1694-1715248800-1715259600@sanctissimaeucharistia.de
SUMMARY:Frühschoppen
DESCRIPTION:Christi Himmelfahrt\, 9. Mai 2024\, treffen wir uns nach der Hl. Messe zum Frühschoppen in Teltow.
URL:https://sanctissimaeucharistia.de/event/fruehschoppen-3/
LOCATION:Sanctissima Eucharistia Teltow\, Ruhlsdorfer Str. 28\, Teltow\, 14513\, Deutschland
CATEGORIES:Veranstaltung
END:VEVENT
BEGIN:VEVENT
DTSTART;TZID=Europe/Paris:20240512T190000
DTEND;TZID=Europe/Paris:20240512T200000
DTSTAMP:20260420T081317
CREATED:20240303T160810Z
LAST-MODIFIED:20240303T160810Z
UID:1595-1715540400-1715544000@sanctissimaeucharistia.de
SUMMARY:TaizéAndacht
DESCRIPTION:Abwechselnd in der Katholischen Kirche St. Thomas Morus in Kleinmachnow und der evangelischen St. Andreaskirche in Teltow finden die ökumenischen Taizéandachten statt. Beginn ist jeweils 19:00 Uhr.
URL:https://sanctissimaeucharistia.de/event/taizeandacht-12/
LOCATION:St. Andreaskirche Teltow\, Breite Straße\, Teltow\, 14513\, Deutschland
CATEGORIES:Gottesdienst
END:VEVENT
BEGIN:VEVENT
DTSTART;TZID=Europe/Paris:20240519T190000
DTEND;TZID=Europe/Paris:20240519T233000
DTSTAMP:20260420T081317
CREATED:20240512T145906Z
LAST-MODIFIED:20240512T145906Z
UID:1702-1716145200-1716161400@sanctissimaeucharistia.de
SUMMARY:Pfingstnacht der Jugend
DESCRIPTION:ABLAUF\nPfingstsonntag\, 19. Mai 2024\n18:30 Uhr Gemeinsame Anreise aus Potsdam möglich\n19:00 Uhr Ankunft und Abendessen in der Gemeinde HI. Dreifaltigkeit\n21:00 Uhr Aufbruch nach St. Nikolai\n21:30 Uhr Nachtgebet\n22:00 Uhr Gesang\, Meditation\, Stille\, Gespräch\, Lounge\nOffenes persönliches Ende \n  \nKatholische Pfarrei Hl. Dreifaltigkeit\nNeustädtische Heidestr. 25\n14776 Brandenburg an der Havel \n 
URL:https://sanctissimaeucharistia.de/event/pfingstnacht-der-jugend-2/
CATEGORIES:Jugend
END:VEVENT
BEGIN:VEVENT
DTSTART;TZID=Europe/Paris:20240520T090000
DTEND;TZID=Europe/Paris:20240520T160000
DTSTAMP:20260420T081317
CREATED:20240303T171857Z
LAST-MODIFIED:20240512T150311Z
UID:1628-1716195600-1716220800@sanctissimaeucharistia.de
SUMMARY:Märkischer Katholikentag in Brandenburg an der Havel
DESCRIPTION:Am Pfingstmontag findet der Märkische Katholikentag in Brandenburg an der Havel statt. \nEröffnung im Dom St. Peter und Paul zu Brandenburg an der Havel \nab 09.00 Uhr Beichtgelegenheit im Brandenburger Dom\n10.00 Uhr Heilige Messe im Brandenburger Dom mit Erzbischof Dr. Heiner Koch \nWeiteres Programm auf dem Gelände der Pfarrei\nHeilige Dreifaltigkeit\, Neustädtische Heidestraße 25 \n12.00 Uhr Mittagessen\, Getränke\, Kaffee\, Kuchen\n13.00 Uhr Konzert unter Bäumen\, Infostände \nEucharistische Anbetung in der Pfarrkirche Vortrag im Saal: Pfarrer Dr. Josef Wieneke: „Erich Klausener – Vorbild für christliches Engagement heute?“\nBuchverkauf der Buchhandlung „Sonnenhaus“ vor dem Dom\nFußballturnier auf dem Gelände des Pauliklosters\nFußballschuhe (Achtung nur ohne Stollen!) und Sportkleidung nicht vergessen. Die Mannschaften werden vor Ort aufgestellt. \n14.30 Uhr Abschluss mit Segen (vor dem Gemeindehaus) \nEmpfehlung: Autos möglichst auf dem Parkplatz Grillendamm
URL:https://sanctissimaeucharistia.de/event/maerkischer-katholikentag-in-brandenburg-an-der-havel/
CATEGORIES:Gottesdienst,Veranstaltung
END:VEVENT
BEGIN:VEVENT
DTSTART;TZID=Europe/Paris:20240530T090000
DTEND;TZID=Europe/Paris:20240530T130000
DTSTAMP:20260420T081317
CREATED:20240512T150625Z
LAST-MODIFIED:20240512T150625Z
UID:1706-1717059600-1717074000@sanctissimaeucharistia.de
SUMMARY:Fronleichnamsfest für Schülerinnen und Schüler
DESCRIPTION:Donnerstag\, 30. Mai 2024\, in Teltow \n9.00 Uhr Heilige Messe in der Pfarrkirche Sanctissima Eucharistia\nRuhlsdorfer Str. 28\, 14513 Teltow \nAnschließend bis 13.00 Uhr:\n– Sport\n– Spiele\n– Hot-Dog-Stand \nAnmeldung erbeten bis spätestens 24. Mai 2024 per Mail an Schwester Elisabeth (herzjesuschwestern@t-online.de) \nVerkehrsanbindung per Bus (Linie 601\, X1 – Haltestelle Ruhlsdorfer Platz)\noder S-Bahnhof Teltow Stadt \nZu diesem Feiertag dürfen Eltern ihre schulpflichtigen Kinder laut Schulgesetz vom Unterricht freistellen. Schriftliche Information der Schule bis 27. Mai erforderlich.
URL:https://sanctissimaeucharistia.de/event/fronleichnamsfest-fuer-schuelerinnen-und-schueler/
LOCATION:Sanctissima Eucharistia Teltow\, Ruhlsdorfer Str. 28\, Teltow\, 14513\, Deutschland
CATEGORIES:Kinder
END:VEVENT
END:VCALENDAR