BEGIN:VCALENDAR
VERSION:2.0
PRODID:-//Katholische Pfarrgemeinde Sanctissima Eucharistia - ECPv6.15.20//NONSGML v1.0//EN
CALSCALE:GREGORIAN
METHOD:PUBLISH
X-WR-CALNAME:Katholische Pfarrgemeinde Sanctissima Eucharistia
X-ORIGINAL-URL:https://sanctissimaeucharistia.de
X-WR-CALDESC:Veranstaltungen für Katholische Pfarrgemeinde Sanctissima Eucharistia
REFRESH-INTERVAL;VALUE=DURATION:PT1H
X-Robots-Tag:noindex
X-PUBLISHED-TTL:PT1H
BEGIN:VTIMEZONE
TZID:Europe/Paris
BEGIN:DAYLIGHT
TZOFFSETFROM:+0100
TZOFFSETTO:+0200
TZNAME:CEST
DTSTART:20230326T010000
END:DAYLIGHT
BEGIN:STANDARD
TZOFFSETFROM:+0200
TZOFFSETTO:+0100
TZNAME:CET
DTSTART:20231029T010000
END:STANDARD
BEGIN:DAYLIGHT
TZOFFSETFROM:+0100
TZOFFSETTO:+0200
TZNAME:CEST
DTSTART:20240331T010000
END:DAYLIGHT
BEGIN:STANDARD
TZOFFSETFROM:+0200
TZOFFSETTO:+0100
TZNAME:CET
DTSTART:20241027T010000
END:STANDARD
BEGIN:DAYLIGHT
TZOFFSETFROM:+0100
TZOFFSETTO:+0200
TZNAME:CEST
DTSTART:20250330T010000
END:DAYLIGHT
BEGIN:STANDARD
TZOFFSETFROM:+0200
TZOFFSETTO:+0100
TZNAME:CET
DTSTART:20251026T010000
END:STANDARD
END:VTIMEZONE
BEGIN:VEVENT
DTSTART;TZID=Europe/Paris:20240601T090000
DTEND;TZID=Europe/Paris:20240601T120000
DTSTAMP:20260420T061646
CREATED:20240512T150954Z
LAST-MODIFIED:20240512T151050Z
UID:1708-1717232400-1717243200@sanctissimaeucharistia.de
SUMMARY:Grundstückseinsatz\, Aufbau und Üben
DESCRIPTION:Am Samstag vor dem Kirchweihfest wird aufgebaut und geübt: \nab 09:00 Uhr\, Grundstückseinsatz und Aufbau auf dem Pfarrgrundstück in Teltow \nab 10:00 Uhr\, Treffen der Ministranten zum Üben für die Prozession\, in der Sakristei Ss. Eucharistia Teltow
URL:https://sanctissimaeucharistia.de/event/grundstueckseinsatz-aufbau-und-ueben/
LOCATION:Sanctissima Eucharistia Teltow\, Ruhlsdorfer Str. 28\, Teltow\, 14513\, Deutschland
CATEGORIES:Veranstaltung
END:VEVENT
BEGIN:VEVENT
DTSTART;TZID=Europe/Paris:20240602T100000
DTEND;TZID=Europe/Paris:20240602T160000
DTSTAMP:20260420T061646
CREATED:20240303T172146Z
LAST-MODIFIED:20240422T093013Z
UID:1630-1717322400-1717344000@sanctissimaeucharistia.de
SUMMARY:Kirchweih/Pfarrfest
DESCRIPTION:Am Sonntag nach Fronleichnam feiern wir unser Kirchweihfest in Teltow. \n10:00 Uhr Hl. Messe mit Prozession \nanschl. Mittagessen \nKaffee und Kuchen \nFest auf dem Pfarrgrundstück \nca. 16:30 Uhr Schlussandacht
URL:https://sanctissimaeucharistia.de/event/kirchweihfest/
LOCATION:Sanctissima Eucharistia Teltow\, Ruhlsdorfer Str. 28\, Teltow\, 14513\, Deutschland
CATEGORIES:Gottesdienst,Veranstaltung
END:VEVENT
BEGIN:VEVENT
DTSTART;TZID=Europe/Paris:20240609T190000
DTEND;TZID=Europe/Paris:20240609T200000
DTSTAMP:20260420T061646
CREATED:20240303T160857Z
LAST-MODIFIED:20240303T160857Z
UID:1597-1717959600-1717963200@sanctissimaeucharistia.de
SUMMARY:TaizéAndacht
DESCRIPTION:Abwechselnd in der Katholischen Kirche St. Thomas Morus in Kleinmachnow und der evangelischen St. Andreaskirche in Teltow finden die ökumenischen Taizéandachten statt. Beginn ist jeweils 19:00 Uhr.
URL:https://sanctissimaeucharistia.de/event/taizeandacht-13/
LOCATION:St. Thomas Morus Kleinmachnow\, Hohe Kiefer 113\, Kleinmachnow\, 14532\, Deutschland
CATEGORIES:Gottesdienst
END:VEVENT
BEGIN:VEVENT
DTSTART;TZID=Europe/Paris:20240630T140000
DTEND;TZID=Europe/Paris:20240630T180000
DTSTAMP:20260420T061646
CREATED:20240606T085639Z
LAST-MODIFIED:20240606T085639Z
UID:1781-1719756000-1719770400@sanctissimaeucharistia.de
SUMMARY:40. Priesterjubiläum von Pfarrer Theuerl
DESCRIPTION:Heilige Messe 14:00 Uhr\, anschließend Feier auf dem Pfarrgrundstück
URL:https://sanctissimaeucharistia.de/event/40-priesterjubilaeum-von-pfarrer-theuerl/
LOCATION:Sanctissima Eucharistia Teltow\, Ruhlsdorfer Str. 28\, Teltow\, 14513\, Deutschland
CATEGORIES:Gottesdienst,Veranstaltung
END:VEVENT
END:VCALENDAR