BEGIN:VCALENDAR
VERSION:2.0
PRODID:-//Katholische Pfarrgemeinde Sanctissima Eucharistia - ECPv6.15.20//NONSGML v1.0//EN
CALSCALE:GREGORIAN
METHOD:PUBLISH
X-WR-CALNAME:Katholische Pfarrgemeinde Sanctissima Eucharistia
X-ORIGINAL-URL:https://sanctissimaeucharistia.de
X-WR-CALDESC:Veranstaltungen für Katholische Pfarrgemeinde Sanctissima Eucharistia
REFRESH-INTERVAL;VALUE=DURATION:PT1H
X-Robots-Tag:noindex
X-PUBLISHED-TTL:PT1H
BEGIN:VTIMEZONE
TZID:Europe/Paris
BEGIN:DAYLIGHT
TZOFFSETFROM:+0100
TZOFFSETTO:+0200
TZNAME:CEST
DTSTART:20230326T010000
END:DAYLIGHT
BEGIN:STANDARD
TZOFFSETFROM:+0200
TZOFFSETTO:+0100
TZNAME:CET
DTSTART:20231029T010000
END:STANDARD
BEGIN:DAYLIGHT
TZOFFSETFROM:+0100
TZOFFSETTO:+0200
TZNAME:CEST
DTSTART:20240331T010000
END:DAYLIGHT
BEGIN:STANDARD
TZOFFSETFROM:+0200
TZOFFSETTO:+0100
TZNAME:CET
DTSTART:20241027T010000
END:STANDARD
BEGIN:DAYLIGHT
TZOFFSETFROM:+0100
TZOFFSETTO:+0200
TZNAME:CEST
DTSTART:20250330T010000
END:DAYLIGHT
BEGIN:STANDARD
TZOFFSETFROM:+0200
TZOFFSETTO:+0100
TZNAME:CET
DTSTART:20251026T010000
END:STANDARD
END:VTIMEZONE
BEGIN:VEVENT
DTSTART;TZID=Europe/Paris:20241201T100000
DTEND;TZID=Europe/Paris:20241201T110000
DTSTAMP:20260419T193254
CREATED:20241013T144313Z
LAST-MODIFIED:20241013T144313Z
UID:1959-1733047200-1733050800@sanctissimaeucharistia.de
SUMMARY:Caritasbasar
DESCRIPTION:Der Caritasbasar findet am 1. Dezember 2024 in Teltow statt.
URL:https://sanctissimaeucharistia.de/event/caritasbasar/
LOCATION:Sanctissima Eucharistia Teltow\, Ruhlsdorfer Str. 28\, Teltow\, 14513\, Deutschland
CATEGORIES:Veranstaltung
END:VEVENT
BEGIN:VEVENT
DTSTART;TZID=Europe/Paris:20241203T180000
DTEND;TZID=Europe/Paris:20241203T190000
DTSTAMP:20260419T193254
CREATED:20241201T181530Z
LAST-MODIFIED:20241201T181900Z
UID:2016-1733248800-1733252400@sanctissimaeucharistia.de
SUMMARY:Heilige Messe im Augustinum
DESCRIPTION:
URL:https://sanctissimaeucharistia.de/event/heilige-messe-im-augustinum-12/
LOCATION:Augustinum Seniorenresidenz Kleinmachnow\, Erlenweg 72\, Kleinmachnow\, 14532\, Deutschland
CATEGORIES:Gottesdienst
END:VEVENT
BEGIN:VEVENT
DTSTART;TZID=Europe/Paris:20241204T060000
DTEND;TZID=Europe/Paris:20241204T070000
DTSTAMP:20260419T193254
CREATED:20241201T181153Z
LAST-MODIFIED:20241201T181153Z
UID:2010-1733292000-1733295600@sanctissimaeucharistia.de
SUMMARY:Roratemesse in Kleinmachnow
DESCRIPTION:Roratemesse mit anschl. Frühstück
URL:https://sanctissimaeucharistia.de/event/roratemesse-in-kleinmachnow/
LOCATION:St. Thomas Morus Kleinmachnow\, Hohe Kiefer 113\, Kleinmachnow\, 14532\, Deutschland
CATEGORIES:Gottesdienst
END:VEVENT
BEGIN:VEVENT
DTSTART;TZID=Europe/Paris:20241208T190000
DTEND;TZID=Europe/Paris:20241208T200000
DTSTAMP:20260419T193254
CREATED:20240909T080828Z
LAST-MODIFIED:20240909T081018Z
UID:1890-1733684400-1733688000@sanctissimaeucharistia.de
SUMMARY:Taizéandacht
DESCRIPTION:Jeden zweiten Sonntag im Monat laden wir abwechselnd in die Katholische Kirche St. Thomas Morus in Kleinmachnow\, Hohe Kiefer 113\, und die St. Andreaskirche in Teltow\, Breite Straße\, ein. Die Andachten werden gemeinsam vorbereitet und gemeinsam gefeiert. Es ist eine Zeit zum Kraftsammeln und um die Seele zu stärken.
URL:https://sanctissimaeucharistia.de/event/taizeandacht-16/
LOCATION:St. Thomas Morus Kleinmachnow\, Hohe Kiefer 113\, Kleinmachnow\, 14532\, Deutschland
CATEGORIES:Gottesdienst
END:VEVENT
BEGIN:VEVENT
DTSTART;TZID=Europe/Paris:20241213T060000
DTEND;TZID=Europe/Paris:20241213T070000
DTSTAMP:20260419T193254
CREATED:20241201T181424Z
LAST-MODIFIED:20241201T181424Z
UID:2014-1734069600-1734073200@sanctissimaeucharistia.de
SUMMARY:Roratemesse in Teltow
DESCRIPTION:Roratemesse mit anschl. Frühstück
URL:https://sanctissimaeucharistia.de/event/roratemesse-in-teltow-2/
LOCATION:Sanctissima Eucharistia Teltow\, Ruhlsdorfer Str. 28\, Teltow\, 14513\, Deutschland
CATEGORIES:Gottesdienst
END:VEVENT
BEGIN:VEVENT
DTSTART;TZID=Europe/Paris:20241218T060000
DTEND;TZID=Europe/Paris:20241218T070000
DTSTAMP:20260419T193254
CREATED:20241201T181239Z
LAST-MODIFIED:20241201T181239Z
UID:2012-1734501600-1734505200@sanctissimaeucharistia.de
SUMMARY:Roratemesse in Kleinmachnow
DESCRIPTION:Roratemesse mit anschl. Frühstück
URL:https://sanctissimaeucharistia.de/event/roratemesse-in-kleinmachnow-2/
LOCATION:St. Thomas Morus Kleinmachnow\, Hohe Kiefer 113\, Kleinmachnow\, 14532\, Deutschland
CATEGORIES:Gottesdienst
END:VEVENT
BEGIN:VEVENT
DTSTART;TZID=Europe/Paris:20241224T160000
DTEND;TZID=Europe/Paris:20241224T170000
DTSTAMP:20260419T193254
CREATED:20241223T101022Z
LAST-MODIFIED:20241223T101022Z
UID:2022-1735056000-1735059600@sanctissimaeucharistia.de
SUMMARY:Krippenspiel
DESCRIPTION:
URL:https://sanctissimaeucharistia.de/event/krippenspiel/
LOCATION:Sanctissima Eucharistia Teltow\, Ruhlsdorfer Str. 28\, Teltow\, 14513\, Deutschland
CATEGORIES:Gottesdienst,Kinder
END:VEVENT
BEGIN:VEVENT
DTSTART;TZID=Europe/Paris:20241224T203000
DTEND;TZID=Europe/Paris:20241224T220000
DTSTAMP:20260419T193254
CREATED:20241223T101720Z
LAST-MODIFIED:20241223T101720Z
UID:2028-1735072200-1735077600@sanctissimaeucharistia.de
SUMMARY:Christmette in Teltow (vorab Adventliches Singen)
DESCRIPTION:20:30 Uhr\, Adventliches Singen \n21:00 Uhr\, Christmette
URL:https://sanctissimaeucharistia.de/event/christmette-in-teltow-vorab-adventliches-singen/
LOCATION:Sanctissima Eucharistia Teltow\, Ruhlsdorfer Str. 28\, Teltow\, 14513\, Deutschland
CATEGORIES:Gottesdienst
END:VEVENT
BEGIN:VEVENT
DTSTART;TZID=Europe/Paris:20241224T213000
DTEND;TZID=Europe/Paris:20241224T230000
DTSTAMP:20260419T193254
CREATED:20241223T101807Z
LAST-MODIFIED:20241223T101839Z
UID:2030-1735075800-1735081200@sanctissimaeucharistia.de
SUMMARY:Christmette in Kleinmachnow (vorab Adventliches Singen)
DESCRIPTION:21:30 Uhr\, Adventliches Singen \n22:00 Uhr\, Christmette
URL:https://sanctissimaeucharistia.de/event/christmette-in-kleinmachnow-vorab-adventliches-singen/
LOCATION:St. Thomas Morus Kleinmachnow\, Hohe Kiefer 113\, Kleinmachnow\, 14532\, Deutschland
CATEGORIES:Gottesdienst
END:VEVENT
BEGIN:VEVENT
DTSTART;TZID=Europe/Paris:20241225T090000
DTEND;TZID=Europe/Paris:20241225T100000
DTSTAMP:20260419T193254
CREATED:20241223T102112Z
LAST-MODIFIED:20241223T102112Z
UID:2034-1735117200-1735120800@sanctissimaeucharistia.de
SUMMARY:Hochamt zum Hochfest der Geburt des Herrn in Teltow
DESCRIPTION:
URL:https://sanctissimaeucharistia.de/event/hochamt-zum-hochfest-der-geburt-des-herrn-in-teltow/
LOCATION:Sanctissima Eucharistia Teltow\, Ruhlsdorfer Str. 28\, Teltow\, 14513\, Deutschland
CATEGORIES:Gottesdienst
END:VEVENT
BEGIN:VEVENT
DTSTART;TZID=Europe/Paris:20241225T110000
DTEND;TZID=Europe/Paris:20241225T120000
DTSTAMP:20260419T193254
CREATED:20241223T102155Z
LAST-MODIFIED:20241223T102155Z
UID:2036-1735124400-1735128000@sanctissimaeucharistia.de
SUMMARY:Hochamt zum Hochfest der Geburt des Herrn in Kleinmachnow
DESCRIPTION:
URL:https://sanctissimaeucharistia.de/event/hochamt-zum-hochfest-der-geburt-des-herrn-in-kleinmachnow/
LOCATION:St. Thomas Morus Kleinmachnow\, Hohe Kiefer 113\, Kleinmachnow\, 14532\, Deutschland
CATEGORIES:Gottesdienst
END:VEVENT
BEGIN:VEVENT
DTSTART;TZID=Europe/Paris:20241225T180000
DTEND;TZID=Europe/Paris:20241225T190000
DTSTAMP:20260419T193254
CREATED:20241223T101415Z
LAST-MODIFIED:20241223T101415Z
UID:2026-1735149600-1735153200@sanctissimaeucharistia.de
SUMMARY:Hl. Messe im Augustinum
DESCRIPTION:
URL:https://sanctissimaeucharistia.de/event/hl-messe-im-augustinum/
LOCATION:Augustinum Seniorenresidenz Kleinmachnow\, Erlenweg 72\, Kleinmachnow\, 14532\, Deutschland
CATEGORIES:Gottesdienst
END:VEVENT
BEGIN:VEVENT
DTSTART;TZID=Europe/Paris:20241226T090000
DTEND;TZID=Europe/Paris:20241226T100000
DTSTAMP:20260419T193254
CREATED:20241223T102259Z
LAST-MODIFIED:20241223T102259Z
UID:2038-1735203600-1735207200@sanctissimaeucharistia.de
SUMMARY:Fest des Hl. Erzmärtyrers Stephanus\, Hochamt in Teltow
DESCRIPTION:
URL:https://sanctissimaeucharistia.de/event/fest-des-hl-erzmaertyrers-stephanus-hochamt-in-teltow/
LOCATION:Sanctissima Eucharistia Teltow\, Ruhlsdorfer Str. 28\, Teltow\, 14513\, Deutschland
CATEGORIES:Gottesdienst
END:VEVENT
BEGIN:VEVENT
DTSTART;TZID=Europe/Paris:20241226T110000
DTEND;TZID=Europe/Paris:20241226T120000
DTSTAMP:20260419T193254
CREATED:20241223T102336Z
LAST-MODIFIED:20241223T102336Z
UID:2040-1735210800-1735214400@sanctissimaeucharistia.de
SUMMARY:Fest des Hl. Erzmärtyrers Stephanus\, Hochamt in Kleinmachnow
DESCRIPTION:
URL:https://sanctissimaeucharistia.de/event/fest-des-hl-erzmaertyrers-stephanus-hochamt-in-kleinmachnow/
LOCATION:St. Thomas Morus Kleinmachnow\, Hohe Kiefer 113\, Kleinmachnow\, 14532\, Deutschland
CATEGORIES:Gottesdienst
END:VEVENT
BEGIN:VEVENT
DTSTART;TZID=Europe/Paris:20241231T170000
DTEND;TZID=Europe/Paris:20241231T180000
DTSTAMP:20260419T193254
CREATED:20241223T101947Z
LAST-MODIFIED:20241223T101947Z
UID:2032-1735664400-1735668000@sanctissimaeucharistia.de
SUMMARY:Jahresabschlussandacht
DESCRIPTION:
URL:https://sanctissimaeucharistia.de/event/jahresabschlussandacht/
LOCATION:St. Thomas Morus Kleinmachnow\, Hohe Kiefer 113\, Kleinmachnow\, 14532\, Deutschland
CATEGORIES:Gottesdienst
END:VEVENT
END:VCALENDAR